BEGIN:VCALENDAR
VERSION:2.0
PRODID:-//SECIHTI - ECPv6.15.16//NONSGML v1.0//EN
CALSCALE:GREGORIAN
METHOD:PUBLISH
X-WR-CALNAME:SECIHTI
X-ORIGINAL-URL:https://www.secihti.mx
X-WR-CALDESC:Eventos para SECIHTI
REFRESH-INTERVAL;VALUE=DURATION:PT1H
X-Robots-Tag:noindex
X-PUBLISHED-TTL:PT1H
BEGIN:VTIMEZONE
TZID:America/Mexico_City
BEGIN:STANDARD
TZOFFSETFROM:-0600
TZOFFSETTO:-0600
TZNAME:CST
DTSTART:20250101T000000
END:STANDARD
END:VTIMEZONE
BEGIN:VEVENT
DTSTART;VALUE=DATE:20260727
DTEND;VALUE=DATE:20260803
DTSTAMP:20260420T192835
CREATED:20260420T211145Z
LAST-MODIFIED:20260421T001855Z
UID:39623-1785110400-1785715199@www.secihti.mx
SUMMARY:2º curso avanzado de Programación Científica en Python – América Latina
DESCRIPTION:Información:\nhttps://latam.aspp.school/ \nRegistro:\nhttps://latam.aspp.school/applications \nSíntesis: \nLa Secretaría de Ciencia\, Humanidades\, Tecnología e Innovación (Secihti)\, la Dirección General de Cómputo y de Tecnologías de Información y Comunicación de la Universidad Nacional Autónoma de México (DGTIC-UNAM) y la ASPP Summer School for the Latin American public invitan al 2º curso avanzado de Programación Científica en Python\, a celebrarse del 27 de julio al 2 de agosto del 2026. \nEn este curso se presentará una selección de técnicas avanzadas de programación y mejores prácticas adaptadas a las necesidades de quienes desarrollan investigación científica. Las sesiones serán interactivas y permitirán a las y los participantes adquirir experiencia a través de la práctica directa. \nEl programa está dirigido a estudiantes de doctorado\, personas en estancias posdoctorales e investigadores e investigadoras de mayor trayectoria que programan de manera frecuente en su labor académica\, pero que no han recibido formación formal en esta área. Se requiere contar con experiencia en programación\, así como conocimientos básicos de Python y git. Las personas participantes deberán revisar previamente el material introductorio propuesto. El idioma del curso será en inglés. \nLa participación en el curso es gratuita; cualquier otro gasto\, deberá ser cubierto por las y los interesados. La fecha límite para registrarse al curso es el 3 de mayo de 2026\, en el siguiente enlace: https://latam.aspp.school/applications \nPara más información del curso\, se pone a disposición la siguiente liga: https://latam.aspp.school/
URL:https://www.secihti.mx/evento/2o-curso-avanzado-de-programacion-cientifica-en-python-america-latina/
CATEGORIES:Curso,Secihti
ATTACH;FMTTYPE=image/jpeg:https://www.secihti.mx/wp-content/uploads/2026/04/imagen2.jpg
END:VEVENT
END:VCALENDAR