BEGIN:VCALENDAR
VERSION:2.0
PRODID:-//SECIHTI - ECPv6.15.16//NONSGML v1.0//EN
CALSCALE:GREGORIAN
METHOD:PUBLISH
X-WR-CALNAME:SECIHTI
X-ORIGINAL-URL:https://www.secihti.mx
X-WR-CALDESC:Eventos para SECIHTI
REFRESH-INTERVAL;VALUE=DURATION:PT1H
X-Robots-Tag:noindex
X-PUBLISHED-TTL:PT1H
BEGIN:VTIMEZONE
TZID:America/Mexico_City
BEGIN:STANDARD
TZOFFSETFROM:-0600
TZOFFSETTO:-0600
TZNAME:CST
DTSTART:20240101T000000
END:STANDARD
END:VTIMEZONE
BEGIN:VEVENT
DTSTART;VALUE=DATE:20250615
DTEND;VALUE=DATE:20250707
DTSTAMP:20260419T074724
CREATED:20250412T045652Z
LAST-MODIFIED:20251028T232939Z
UID:2541-1749963600-1751777999@www.secihti.mx
SUMMARY:5to Verano de la Investigación en Astrofísica del Instituto Nacional de Astrofísica\, Óptica y Electrónica (VIAI 2025)
DESCRIPTION:Información:\ninaoep.mx/~viai25/ \nRegistro:\nhttps://acortar.link/SGMJq6 \nFecha límite para registro:\n23 de mayo de 2025 \nSíntesis:\nEl Instituto Nacional de Astrofísica\, Óptica y Electrónica (INAOE) invita a estudiantes de último año o egresados de Ciencias Físicas\, Matemáticas\, Ingenierías o áreas afines en alguna institución de México al “Verano de la Investigación en Astrofísica (VIAI 2025)”\, en su quinta edición. \nEl curso de verano tiene una duración de tres semanas y su objetivo es acercar a las y los participantes al mundo de la investigación científica. Se ofrecerán clases de iniciación a la Astrofísica y a la programación en Python\, así como seminarios relacionados con el quehacer científico. \nLas y los estudiantes participarán en las reuniones de trabajo de su grupo de investigación y presentarán los avances del trabajo realizado al final del periodo. \nLas personas interesadas en participar\, deberán llenar su registro aquí. El cupo es limitado. \nPara más información sobre criterios\, requisitos\, calendarización y datos importantes del evento\, se puede consultar en este enlace: inaoep.mx/~viai25/. \nContacto:\nDra. Olga Vega (viai25@inaoep.mx)
URL:https://www.secihti.mx/evento/5to-verano-de-la-investigacion-en-astrofisica-del-instituto-nacional-de-astrofisica-optica-y-electronica-viai-2025/
ATTACH;FMTTYPE=image/jpeg:https://www.secihti.mx/wp-content/uploads/2025/10/Imagen1-1.jpg
END:VEVENT
END:VCALENDAR