BEGIN:VCALENDAR
VERSION:2.0
PRODID:-//SECIHTI - ECPv6.15.16//NONSGML v1.0//EN
CALSCALE:GREGORIAN
METHOD:PUBLISH
X-WR-CALNAME:SECIHTI
X-ORIGINAL-URL:https://www.secihti.mx
X-WR-CALDESC:Eventos para SECIHTI
REFRESH-INTERVAL;VALUE=DURATION:PT1H
X-Robots-Tag:noindex
X-PUBLISHED-TTL:PT1H
BEGIN:VTIMEZONE
TZID:America/Mexico_City
BEGIN:STANDARD
TZOFFSETFROM:-0600
TZOFFSETTO:-0600
TZNAME:CST
DTSTART:20240101T000000
END:STANDARD
END:VTIMEZONE
BEGIN:VEVENT
DTSTART;TZID=America/Mexico_City:20250316T000000
DTEND;TZID=America/Mexico_City:20250316T235900
DTSTAMP:20260419T154735
CREATED:20250220T060218Z
LAST-MODIFIED:20251028T232412Z
UID:2517-1742083200-1742169540@www.secihti.mx
SUMMARY:Convocatoria abierta “Alumni Change Agent Award 2025”
DESCRIPTION:Liga de registro\nhttps://bit.ly/419KBBI \nSíntesis:\nLa Embajada de Australia en Mexico ―concurrente en Centro América\, Cuba y la Republica Dominicana― anunciá la apertura de la convocatoria para el Alumni Change Agent Award 2025\, iniciativa de un programa de pequeñas subvenciones para proyectos comunitarios o de investigación exclusivo para integrantes de la comunidad de exalumnos de instituciones educativas australianas. \nLos Alumni Change Agent Award 2025 buscan reconocer el liderazgo de sus exalumnos como agentes de cambio\, así como poner al servicio de su comunidad las habilidades y conocimientos adquiridos en Australia. En esta edición se financiará un proyecto de desarrollo de alto impacto que beneficie a las sociedades de los países de acreditación de la Embajada\, la cual considerará proyectos sobre todos los temas; sin embargo\, se tomarán especialmente en cuenta los proyectos centrados en las Primeras Naciones\, igualdad de género\, brecha digital o cambio climático y océanos. \nDicha convocatoria cierra el 16 de marzo de 2025 a las 23:59 (zona centro) y\, para mayor información\, puedes visitar la liga https://bit.ly/419KBBI.
URL:https://www.secihti.mx/evento/convocatoria-abierta-alumni-change-agent-award-2025/
END:VEVENT
END:VCALENDAR