BEGIN:VCALENDAR
VERSION:2.0
PRODID:-//SECIHTI - ECPv6.15.16//NONSGML v1.0//EN
CALSCALE:GREGORIAN
METHOD:PUBLISH
X-WR-CALNAME:SECIHTI
X-ORIGINAL-URL:https://www.secihti.mx
X-WR-CALDESC:Eventos para SECIHTI
REFRESH-INTERVAL;VALUE=DURATION:PT1H
X-Robots-Tag:noindex
X-PUBLISHED-TTL:PT1H
BEGIN:VTIMEZONE
TZID:America/Mexico_City
BEGIN:STANDARD
TZOFFSETFROM:-0600
TZOFFSETTO:-0600
TZNAME:CST
DTSTART:20240101T000000
END:STANDARD
END:VTIMEZONE
BEGIN:VEVENT
DTSTART;TZID=America/Mexico_City:20250320T000000
DTEND;TZID=America/Mexico_City:20250320T235900
DTSTAMP:20260419T123141
CREATED:20250226T233526Z
LAST-MODIFIED:20251028T232418Z
UID:2520-1742428800-1742515140@www.secihti.mx
SUMMARY:Convocatoria “Premio UNESCO Rey Hamad Bin Isa Al-Khalifa para el Uso de las Tecnologías de la Información y la Comunicación en la Educación\, edición 2025”
DESCRIPTION:Liga de registro:\nhttp://www.unesco.org/ict-ed-prize/register \nSíntesis:\nDesde la Comisión Mexicana de Cooperación con la UNESCO (Conamex)\, se invita a todas las personas interesadas a participar en el Premio UNESCO Rey Hamad Bin Isa Al-Khalifa para el Uso de las Tecnologías de la Información y la Comunicación en la Educación\, edición 2025. \nEste Premio es financiado por el Reino de Bahréin y se estableció en el año 2005\,  con el propósito  de recompensar proyectos que utilizan tecnologías digitales para mejorar el aprendizaje y la enseñanza\, en esta  edición 2025  se celebrará el  20º Aniversario y el tema se centrará en “Preparar a los Alumnos y Profesores para el Uso Ético y Responsable de la Inteligencia Artificial”\, se distinguirán los proyectos que permitan a las generaciones jóvenes y a los actores de la educación adquirir habilidades clave en inteligencia artificial\, ayudándolos a desarrollar el pensamiento crítico y a hacer el mejor uso posible de esta tecnología. \nQuien desee participar puede registrar su participación\, antes del 20 de marzo de 2025\, en el sitio digital http://www.unesco.org/ict-ed-prize/register; donde también se anexan las directrices relativas al proceso de solicitud y nominación. \n 
URL:https://www.secihti.mx/evento/convocatoria-premio-unesco-rey-hamad-bin-isa-al-khalifa-para-el-uso-de-las-tecnologias-de-la-informacion-y-la-comunicacion-en-la-educacion-edicion-2025/
END:VEVENT
END:VCALENDAR