BEGIN:VCALENDAR
VERSION:2.0
PRODID:-//SECIHTI - ECPv6.15.16//NONSGML v1.0//EN
CALSCALE:GREGORIAN
METHOD:PUBLISH
X-WR-CALNAME:SECIHTI
X-ORIGINAL-URL:https://www.secihti.mx
X-WR-CALDESC:Eventos para SECIHTI
REFRESH-INTERVAL;VALUE=DURATION:PT1H
X-Robots-Tag:noindex
X-PUBLISHED-TTL:PT1H
BEGIN:VTIMEZONE
TZID:America/Mexico_City
BEGIN:STANDARD
TZOFFSETFROM:-0600
TZOFFSETTO:-0600
TZNAME:CST
DTSTART:20240101T000000
END:STANDARD
END:VTIMEZONE
BEGIN:VEVENT
DTSTART;TZID=America/Mexico_City:20250521T203000
DTEND;TZID=America/Mexico_City:20250716T235900
DTSTAMP:20260419T154800
CREATED:20250522T081033Z
LAST-MODIFIED:20251028T232954Z
UID:2550-1747859400-1752710340@www.secihti.mx
SUMMARY:Convocatoria visual internacional “Luz Cuántica: una Odisea Visual”
DESCRIPTION:Información y registro:\nhttps://acortar.link/NN44DQ \nSíntesis: \nLa Organización de las Naciones Unidas para la Educación\, la Ciencia y la Cultura (UNESCO)\, exhorta a participantes de todo el mundo a presentar obras visuales creativas\, como fotografías\, ilustraciones\, collages o piezas artesanales\, que exploren los profundos vínculos entre la luz y la ciencia cuántica. \nLas obras seleccionadas se exhibirán en una exposición virtual curada que se inaugurará en octubre de 2025 en la plataforma del Año Internacional de la Ciencia y la Tecnología Cuánticas (AIQ) de la UNESCO\, y se otorgarán premios en cuatro categorías: Más Popular\, Mejor Creatividad Científica\, Mejor Comunicación Científica y Mejor Expresión Artística. \nLas personas interesadas en participar deberán enviar sus obras o trabajos a más tardar el 16 de julio de 2025\, en el siguiente enlace: https://acortar.link/NN44DQ
URL:https://www.secihti.mx/evento/convocatoria-visual-internacional-luz-cuantica-una-odisea-visual/
END:VEVENT
END:VCALENDAR