BEGIN:VCALENDAR
VERSION:2.0
PRODID:-//SECIHTI - ECPv6.15.16//NONSGML v1.0//EN
CALSCALE:GREGORIAN
METHOD:PUBLISH
X-WR-CALNAME:SECIHTI
X-ORIGINAL-URL:https://www.secihti.mx
X-WR-CALDESC:Eventos para SECIHTI
REFRESH-INTERVAL;VALUE=DURATION:PT1H
X-Robots-Tag:noindex
X-PUBLISHED-TTL:PT1H
BEGIN:VTIMEZONE
TZID:America/Mexico_City
BEGIN:STANDARD
TZOFFSETFROM:-0600
TZOFFSETTO:-0600
TZNAME:CST
DTSTART:20240101T000000
END:STANDARD
END:VTIMEZONE
BEGIN:VEVENT
DTSTART;TZID=America/Mexico_City:20250228T093000
DTEND;TZID=America/Mexico_City:20250228T133000
DTSTAMP:20260420T001619
CREATED:20250222T093711Z
LAST-MODIFIED:20251028T232413Z
UID:2519-1740735000-1740749400@www.secihti.mx
SUMMARY:Feria de Posgrados del INAOE 2025
DESCRIPTION:Registro escolar:\nhttps://acortar.link/gfcGYs \nRegistro individual: \nhttps://acortar.link/CXVWdg \nConvocatoria: \nEl Instituto Nacional de Astrofísica\, Óptica y Electrónica (INAOE) invita a estudiantes y educaciones educativas a participar en la Feria de Posgrados INAOE 2025\, jornada que pretende promover la oferta de posgrados del INAOE entre estudiantes de los últimos semestres de las carreras de Física\, Matemáticas\, Ingenierías y áreas afines. \nLas personas o instituciones interesadas en asistir\, deberán llenar el formato correspondiente: Registro escolar (https://acortar.link/gfcGYs) y Registro individual https://acortar.link/CXVWdg). \nContacto:\nDr. Francisco Renero Carrillo (paco@inaoep.mx)
URL:https://www.secihti.mx/evento/feria-de-posgrados-del-inaoe-2025/
END:VEVENT
END:VCALENDAR