BEGIN:VCALENDAR
VERSION:2.0
PRODID:-//SECIHTI - ECPv6.15.16//NONSGML v1.0//EN
CALSCALE:GREGORIAN
METHOD:PUBLISH
X-WR-CALNAME:SECIHTI
X-ORIGINAL-URL:https://www.secihti.mx
X-WR-CALDESC:Eventos para SECIHTI
REFRESH-INTERVAL;VALUE=DURATION:PT1H
X-Robots-Tag:noindex
X-PUBLISHED-TTL:PT1H
BEGIN:VTIMEZONE
TZID:America/Mexico_City
BEGIN:STANDARD
TZOFFSETFROM:-0600
TZOFFSETTO:-0600
TZNAME:CST
DTSTART:20240101T000000
END:STANDARD
END:VTIMEZONE
BEGIN:VEVENT
DTSTART;VALUE=DATE:20250527
DTEND;VALUE=DATE:20250529
DTSTAMP:20260419T140448
CREATED:20250522T080532Z
LAST-MODIFIED:20251028T232954Z
UID:2549-1748322000-1748408399@www.secihti.mx
SUMMARY:Seminario UNESCO/IUPAP: Iluminando la Innovación: Ciencia de Sincrotrón\, Fronteras Cuánticas y el Futuro Científico de África
DESCRIPTION:Hora de inicio:\n5:00 h (zona centro de México) \nInformación y registro:\nhttps://acortar.link/UHX5bi \nSíntesis: \nLa Organización de las Naciones Unidas para la Educación\, la Ciencia y la Cultura (UNESCO)\, invita a inscribirse al segundo seminario web de la serie de coloquios UNESCO/IUPAP Física para la Sociedad\, titulado “Iluminando la Innovación: Ciencia de Sincrotrón\, Fronteras Cuánticas y el Futuro Científico de África”. \nCabe destacar que\, esta sesión especial se organiza en el contexto del Decenio Internacional de las Ciencias para el Desarrollo Sostenible (IDSSD) y el Año Internacional de la Ciencia y la Tecnología Cuánticas (AIQ). Explorará el papel transformador de las fuentes de luz de sincrotrón en el avance de la investigación cuántica\, impulsando la innovación en campos como las energías limpias y la imagenología biomédica\, y fomentando la colaboración científica internacional inclusiva. \nLas personas interesadas en participar\, deberán hacer su inscripción en el siguiente enlace electrónico: https://acortar.link/UHX5bi
URL:https://www.secihti.mx/evento/seminario-unesco-iupap-iluminando-la-innovacion-ciencia-de-sincrotron-fronteras-cuanticas-y-el-futuro-cientifico-de-africa/
END:VEVENT
END:VCALENDAR