BEGIN:VCALENDAR
VERSION:2.0
PRODID:-//SECIHTI - ECPv6.15.16//NONSGML v1.0//EN
CALSCALE:GREGORIAN
METHOD:PUBLISH
X-WR-CALNAME:SECIHTI
X-ORIGINAL-URL:https://www.secihti.mx
X-WR-CALDESC:Eventos para SECIHTI
REFRESH-INTERVAL;VALUE=DURATION:PT1H
X-Robots-Tag:noindex
X-PUBLISHED-TTL:PT1H
BEGIN:VTIMEZONE
TZID:America/Mexico_City
BEGIN:STANDARD
TZOFFSETFROM:-0600
TZOFFSETTO:-0600
TZNAME:CST
DTSTART:20240101T000000
END:STANDARD
END:VTIMEZONE
BEGIN:VEVENT
DTSTART;VALUE=DATE:20250605
DTEND;VALUE=DATE:20250609
DTSTAMP:20260419T091553
CREATED:20250314T031232Z
LAST-MODIFIED:20251028T232556Z
UID:2526-1749099600-1749358799@www.secihti.mx
SUMMARY:XV CONGRESO NACIONAL Y V INTERNACIONAL DE TECNOLOGÍA APLICADA A CIENCIAS DE LA SALUD
DESCRIPTION:Liga de registro:\nhttps://speckle.inaoep.mx/~tecnologia_salud/2025/ \nSíntesis del evento:\nEl INAOE y el CIO —Centros Públicos de la Secretaría de Ciencia\, Humanidades\, Tecnología e Innovación (Secihiti)—\, en colaboración con la UNAM\, la UASL\, la BUAP\, la UPAEP y la Ibero Puebla; organizan el XV Congreso Nacional y V Internacional de Tecnología aplicada a Ciencias de la Salud\, el cual se llevará a cabo en las instalaciones de la UASL. \nLa temática central del Congreso gira en torno a las técnicas de diagnóstico y tratamiento en diversas áreas de la salud\, aunque prevalece un factor común con trabajos de visión\, cáncer y rehabilitación. \nPara realizar el registro se deberá ingresar a la liga: https://speckle.inaoep.mx/~tecnologia_salud/2025/registro.html; y\, en caso de requerir mayor información\, contactar al correo: tepichin@inaoep.mx.
URL:https://www.secihti.mx/evento/xv-congreso-nacional-y-v-internacional-de-tecnologia-aplicada-a-ciencias-de-la-salud-2/
ATTACH;FMTTYPE=image/jpeg:https://www.secihti.mx/wp-content/uploads/2025/10/Grafico_4_Cong_2025.jpeg
END:VEVENT
END:VCALENDAR