BEGIN:VCALENDAR
VERSION:2.0
PRODID:-//SECIHTI - ECPv6.15.16//NONSGML v1.0//EN
CALSCALE:GREGORIAN
METHOD:PUBLISH
X-WR-CALNAME:SECIHTI
X-ORIGINAL-URL:https://www.secihti.mx
X-WR-CALDESC:Eventos para SECIHTI
REFRESH-INTERVAL;VALUE=DURATION:PT1H
X-Robots-Tag:noindex
X-PUBLISHED-TTL:PT1H
BEGIN:VTIMEZONE
TZID:America/Mexico_City
BEGIN:STANDARD
TZOFFSETFROM:-0600
TZOFFSETTO:-0600
TZNAME:CST
DTSTART:20240101T000000
END:STANDARD
END:VTIMEZONE
BEGIN:VEVENT
DTSTART;VALUE=DATE:20250604
DTEND;VALUE=DATE:20250608
DTSTAMP:20260419T121700
CREATED:20250522T045935Z
LAST-MODIFIED:20250522T234450Z
UID:1123-1749060000-1749319199@www.secihti.mx
SUMMARY:XV Congreso Nacional y V Internacional de Tecnología Aplicada a Ciencias de la Salud
DESCRIPTION:  \n\nEl INAOE y el CIO —Centros Públicos de la Secretaría de Ciencia\, Humanidades\, Tecnología e Innovación (Secihti)—\, en colaboración con la UNAM\, la UASL\, la BUAP\, la UPAEP y la Ibero Puebla; organizan el XV Congreso Nacional y V Internacional de Tecnología aplicada a Ciencias de la Salud\, el cual se llevará a cabo en las instalaciones de la UASL. La temática central del Congreso gira en torno a las técnicas de diagnóstico y tratamiento en diversas áreas de la salud\, aunque prevalece un factor común con trabajos de visión\, cáncer y rehabilitación. Para realizar el registro se deberá ingresar a la liga: \n\nhttps://speckle.inaoep.mx/~tecnologia_salud/2025/registro.html\n\n  \nEn caso de requerir mayor información\, contactar al correo: \n\ntepichin@inaoep.mx
URL:https://www.secihti.mx/evento/xv-congreso-nacional-y-v-internacional-de-tecnologia-aplicada-a-ciencias-de-la-salud/
END:VEVENT
END:VCALENDAR