BEGIN:VCALENDAR
VERSION:2.0
PRODID:-//SECIHTI - ECPv6.15.16//NONSGML v1.0//EN
CALSCALE:GREGORIAN
METHOD:PUBLISH
X-ORIGINAL-URL:https://www.secihti.mx
X-WR-CALDESC:Eventos para SECIHTI
REFRESH-INTERVAL;VALUE=DURATION:PT1H
X-Robots-Tag:noindex
X-PUBLISHED-TTL:PT1H
BEGIN:VTIMEZONE
TZID:America/Mexico_City
BEGIN:STANDARD
TZOFFSETFROM:-0600
TZOFFSETTO:-0600
TZNAME:CST
DTSTART:20240101T000000
END:STANDARD
END:VTIMEZONE
BEGIN:VEVENT
DTSTART;VALUE=DATE:20250201
DTEND;VALUE=DATE:20250302
DTSTAMP:20260423T230942
CREATED:20250128T045146Z
LAST-MODIFIED:20251028T232408Z
UID:2512-1738386000-1740805199@www.secihti.mx
SUMMARY:Proyecto “Nanobiotecnologías para Enfoques Terapéuticos Innovadores en Cáncer”
DESCRIPTION:Bases e información: \nhttps://nanobio4can.net/ \nConvocatoria: \nEl proyecto “Nanobiotecnologías para Enfoques Terapéuticos Innovadores en Cáncer” (NANOBIO4CAN Project)\, consiste en un programa de becas de movilidad para investigadores posdoctorales que tiene como objetivo desarrollar nanobiotecnologías para enfoques terapéuticos innovadores en cáncer. \nNANOBIO4CAN prioriza investigaciones en el ámbito del cáncer\, como el desarrollo de medicamentos\, sistemas de direccionamiento\, sistemas de entrega\, y sistemas de prueba y validación. Ofrece oportunidades para construir redes internacionales de trabajo\, movilidad intersectorial y colaboración interdisciplinaria. \nEl proyecto busca emplear hasta 12 personas investigadoras de posdoctorado con una duración determinada de 24 meses en el campo de la nanobiotecnología. \nLas personas interesadas en participar\, tienen del 1º al 28 de febrero de 2025 para postularse. Para más información sobre requisitos y calendarización\, se invita a consultar el siguiente enlace: https://nanobio4can.net/.
URL:https://www.secihti.mx/evento/proyecto-nanobiotecnologias-para-enfoques-terapeuticos-innovadores-en-cancer/
ATTACH;FMTTYPE=image/png:https://www.secihti.mx/wp-content/uploads/2025/10/Imagen_evento.png
END:VEVENT
BEGIN:VEVENT
DTSTART;TZID=America/Mexico_City:20250205T080000
DTEND;TZID=America/Mexico_City:20250205T080000
DTSTAMP:20260423T230942
CREATED:20250131T083312Z
LAST-MODIFIED:20251028T232409Z
UID:2513-1738742400-1738742400@www.secihti.mx
SUMMARY:Masterclass "Inspirar a los científicos del mañana: promover a las niñas en STEM"
DESCRIPTION:Información y registro:\nhttps://lc.cx/KV99C8 \nConvocatoria:\nLa UNESCO invita a los profesionales a participar en el masterclass “Inspirar a los científicos del mañana: promover a las niñas en STEM”\, un espacio digital a realizarse el 5 de febrero de 2025 a las 8:00 horas (zona centro de México)\, con duración de 2 horas\, a fin de discutir estrategias para inspirar a una nueva generación de científicas. \nCabe señalar que\, dicha sesión se llevará a cabo en el idioma francés\, con motivo de los festejos del “Día Internacional de la Mujer y la Niña en la Ciencia”. La UNESCO hace hincapié en que es una oportunidad única para que los educadores francófonos de todo el mundo interactúen con expertos de la UNESCO y de la sociedad civil sobre formas y métodos para sensibilizar\, inspirar y alentar a más niñas a dedicarse a campos científicos y tecnológicos en Ciencia\, Tecnología\, Ingeniería y Matemáticas (STEM\, por sus siglas en inglés). \nEs importante mencionar a todos los interesados que deseen participar en dicho evento\, deberán registrar de manera previa en la siguiente liga: https://lc.cx/KV99C8 y posterior a su inscripción\, recibirán un enlace de Zoom para acceder al evento\, conocer el programa detallado y la lista de ponentes. \nAl finalizar la clase magistral\, los participantes recibirán los materiales didácticos preparados por la UNESCO y los ponentes.
URL:https://www.secihti.mx/evento/masterclass-inspirar-a-los-cientificos-del-manana-promover-a-las-ninas-en-stem/
END:VEVENT
END:VCALENDAR