BEGIN:VCALENDAR
VERSION:2.0
PRODID:-//SECIHTI - ECPv6.15.16//NONSGML v1.0//EN
CALSCALE:GREGORIAN
METHOD:PUBLISH
X-WR-CALNAME:SECIHTI
X-ORIGINAL-URL:https://www.secihti.mx
X-WR-CALDESC:Eventos para SECIHTI
REFRESH-INTERVAL;VALUE=DURATION:PT1H
X-Robots-Tag:noindex
X-PUBLISHED-TTL:PT1H
BEGIN:VTIMEZONE
TZID:America/Mexico_City
BEGIN:STANDARD
TZOFFSETFROM:-0600
TZOFFSETTO:-0600
TZNAME:CST
DTSTART:20240101T000000
END:STANDARD
END:VTIMEZONE
BEGIN:VEVENT
DTSTART;VALUE=DATE:20250305
DTEND;VALUE=DATE:20250620
DTSTAMP:20260423T213901
CREATED:20250220T072208Z
LAST-MODIFIED:20251028T232412Z
UID:2518-1741150800-1750309199@www.secihti.mx
SUMMARY:Curso “Innovación y Emprendimiento en Salud 2025”
DESCRIPTION:Información y registro:\nitesalud.com \nConvocatoria: \nLa Secretaría de Salud del Gobierno de México\, en concurrencia con otras instituciones de salud e instituciones de educación superior (IES) extienden una invitación a participar en el Curso “Innovación y Emprendimiento en Salud 2025”\, que se realizará del 5 de marzo al 18 de junio de 2025 en modalidad híbrida; presencial en el Centro de Ciencias de la Complejidad de la Universidad Nacional Autónoma de México (UNAM) y virtual a través de Zoom. \nEl programa está diseñado para personas investigadoras\, académicas\, profesionales y estudiantes del área de salud\, con el objetivo de desarrollar el máximo potencial de investigaciones originales en ciencias de la salud para impulsar la creación de empresas innovadoras con responsabilidad social. Entre los temas clave se encuentran: \n\nIntroducción a la innovación y el emprendimiento en salud.\nIngeniería y biotecnología aplicadas a la salud.\nTendencias y oportunidades en el sector salud.\nAspectos regulatorios para investigación en salud.\nTecnologías disruptivas en salud.\n\nLas personas interesadas\, deberán registrarse en el siguiente enlace: itesalud.com. Para conocer más\, se invita a revisar la nota informativa.
URL:https://www.secihti.mx/evento/curso-innovacion-y-emprendimiento-en-salud-2025/
ATTACH;FMTTYPE=image/png:https://www.secihti.mx/wp-content/uploads/2025/10/SALUD.png
END:VEVENT
BEGIN:VEVENT
DTSTART;TZID=America/Mexico_City:20250312T160000
DTEND;TZID=America/Mexico_City:20250312T160000
DTSTAMP:20260423T213901
CREATED:20250312T003242Z
LAST-MODIFIED:20251028T232549Z
UID:2524-1741795200-1741795200@www.secihti.mx
SUMMARY:Sesión informativa “Convocatorias 2025: Becas Nacionales para Estudios de Posgrado y Becas de Posgrado en Ciencia y Humanidades en el Extranjero”
DESCRIPTION:Liga al evento: \nhttps://bit.ly/41VVsRn \nSíntesis:\nEn el marco de la apertura de las Convocatorias 2025 para el Programa de Becas de Posgrado\, la Secihti organiza la sesión informativa “Convocatorias 2025: Becas Nacionales para Estudios de Posgrado y Becas de Posgrado en Ciencia y Humanidades en el Extranjero”. \nEl objetivo de esta sesión es dar a conocer los objetivos\, las bases\, requisitos\, rubros y calendarización\, para la participación de aspirantes en las Convocatorias en mención. \nPrograma:\nMensajes de bienvenida \nDra. Rosaura Ruiz Gutiérrez \nSecretaria de Ciencia\, Humanidades\, Tecnología e Innovación \nDra. Violeta Vázquez-Rojas Maldonado \nSubsecretaria de Ciencias y Humanidades \nPresentación de la normativa de la Convocatoria \nDra. Liza Elena Aceves López \nDirectora General de Becas y Apoyos a la Comunidad Científica y Humanística \nExposición de las bases de las Convocatorias de becas de posgrado 2025 \nMtro. Edwin Triujeque Woods \nDirector de Becas y Posgrado
URL:https://www.secihti.mx/evento/sesion-informativa-convocatorias-2025-becas-nacionales-para-estudios-de-posgrado-y-becas-de-posgrado-en-ciencia-y-humanidades-en-el-extranjero/
ATTACH;FMTTYPE=image/jpeg:https://www.secihti.mx/wp-content/uploads/2025/10/WhatsApp-Image-2025-03-11-at-7.46.59-PM.jpeg
END:VEVENT
BEGIN:VEVENT
DTSTART;TZID=America/Mexico_City:20250312T170000
DTEND;TZID=America/Mexico_City:20250312T170000
DTSTAMP:20260423T213901
CREATED:20250311T072648Z
LAST-MODIFIED:20251028T232544Z
UID:2522-1741798800-1741798800@www.secihti.mx
SUMMARY:Sesión informativa “Convocatoria 2025 para el reconocimiento en el SNII”
DESCRIPTION:Liga al evento:\nhttps://bit.ly/43A8rtf \nSíntesis:\nEn el marco de la apertura de la Convocatoria 2025 para el Reconocimiento en el Sistema Nacional de Investigadoras e Investigadores (SNII)\, la Secihti organiza la “Sesión informativa Convocatoria 2025 para el Reconocimiento en el SNII”. \nEl objetivo de esta sesión es dar a conocer la calendarización\, las bases y el recorrido del sistema informático para la participación en la Convocatoria en mención. \nPrograma:\nMensajes de bienvenida \nDra. Rosaura Ruiz Gutiérrez\nSecretaria de Ciencia\, Humanidades\, Tecnología e Innovación \nDra. Violeta Vázquez-Rojas Maldonado \nSubsecretaria de Ciencias y Humanidades \nPresentación de la normativa y parámetros de la Convocatoria \nDra. Liza Elena Aceves López\nDirectora General de Becas y Apoyos a la Comunidad Científica y Humanística \nRecorrido del sistema informático para el envío de la solicitud para la Convocatoria \nMtra. Karen Araceli Ontiveros Vázquez\nDirectora del Sistema Nacional de Investigadoras e Investigadores
URL:https://www.secihti.mx/evento/sesion-informativa-convocatoria-2025-para-el-reconocimiento-en-el-snii/
ATTACH;FMTTYPE=image/jpeg:https://www.secihti.mx/wp-content/uploads/2025/10/WhatsApp-Image-2025-03-11-at-7.31.06-PM-2.jpeg
END:VEVENT
END:VCALENDAR