BEGIN:VCALENDAR
VERSION:2.0
PRODID:-//SECIHTI - ECPv6.15.16//NONSGML v1.0//EN
CALSCALE:GREGORIAN
METHOD:PUBLISH
X-ORIGINAL-URL:https://www.secihti.mx
X-WR-CALDESC:Eventos para SECIHTI
REFRESH-INTERVAL;VALUE=DURATION:PT1H
X-Robots-Tag:noindex
X-PUBLISHED-TTL:PT1H
BEGIN:VTIMEZONE
TZID:America/Mexico_City
BEGIN:STANDARD
TZOFFSETFROM:-0600
TZOFFSETTO:-0600
TZNAME:CST
DTSTART:20240101T000000
END:STANDARD
END:VTIMEZONE
BEGIN:VEVENT
DTSTART;VALUE=DATE:20250305
DTEND;VALUE=DATE:20250620
DTSTAMP:20260423T214023
CREATED:20250220T072208Z
LAST-MODIFIED:20251028T232412Z
UID:2518-1741150800-1750309199@www.secihti.mx
SUMMARY:Curso “Innovación y Emprendimiento en Salud 2025”
DESCRIPTION:Información y registro:\nitesalud.com \nConvocatoria: \nLa Secretaría de Salud del Gobierno de México\, en concurrencia con otras instituciones de salud e instituciones de educación superior (IES) extienden una invitación a participar en el Curso “Innovación y Emprendimiento en Salud 2025”\, que se realizará del 5 de marzo al 18 de junio de 2025 en modalidad híbrida; presencial en el Centro de Ciencias de la Complejidad de la Universidad Nacional Autónoma de México (UNAM) y virtual a través de Zoom. \nEl programa está diseñado para personas investigadoras\, académicas\, profesionales y estudiantes del área de salud\, con el objetivo de desarrollar el máximo potencial de investigaciones originales en ciencias de la salud para impulsar la creación de empresas innovadoras con responsabilidad social. Entre los temas clave se encuentran: \n\nIntroducción a la innovación y el emprendimiento en salud.\nIngeniería y biotecnología aplicadas a la salud.\nTendencias y oportunidades en el sector salud.\nAspectos regulatorios para investigación en salud.\nTecnologías disruptivas en salud.\n\nLas personas interesadas\, deberán registrarse en el siguiente enlace: itesalud.com. Para conocer más\, se invita a revisar la nota informativa.
URL:https://www.secihti.mx/evento/curso-innovacion-y-emprendimiento-en-salud-2025/
ATTACH;FMTTYPE=image/png:https://www.secihti.mx/wp-content/uploads/2025/10/SALUD.png
END:VEVENT
BEGIN:VEVENT
DTSTART;VALUE=DATE:20250318
DTEND;VALUE=DATE:20250322
DTSTAMP:20260423T214023
CREATED:20250314T030808Z
LAST-MODIFIED:20251028T232553Z
UID:2525-1742274000-1742533199@www.secihti.mx
SUMMARY:Ciclo de Sesiones Informativas “Convocatorias de la Subsecretaría de Desarrollo Tecnológico\, Vinculación e Innovación de la Secihti”
DESCRIPTION:Síntesis:\nLa Secretaría de Ciencia\, Humanidades\, Tecnología e Innovación\, a través de la Subsecretaría de Desarrollo Tecnológico\, Vinculación e Innovación (SDTVI)\, organiza el ciclo de cuatro sesiones informativas para dar a conocer las convocatorias publicadas\, con las cuales se busca implementar acciones para impulsar y fortalecer el desarrollo tecnológico y la innovación; mismos que permitirán la vinculación de los sectores público\, social y privado\, a fin de promover la generación de soluciones. \n  \nConvocatoria \n1. Maduración de Tecnologías\, Mejoramiento de la Inventiva y Retos Tecnológicos para la Atención de Problemáticas Nacionales Prioritarias\, Categoría A \nFecha: 18 de marzo\nHora: 11:00 h (zona centro)\nLiga: https://bit.ly/4hxjBlK \nLa categoría “A” está dirigida a proyectos para la maduración de tecnologías y mejoramiento de la inventiva orientados a la atención de problemáticas nacionales prioritarias. Para conocer la totalidad de requisitos\, puedes consultar la Convocatoria y sus Términos de Referencia en el siguiente enlace: https://secihti.mx/tecnologias-e-innovacion/convocatorias-desarrollo-tecnologico-vinculacion-e-innovacion/. \n  \nConvocatoria\n2. Maduración de Tecnologías\, Mejoramiento de la Inventiva y Retos Tecnológicos para la Atención de Problemáticas Nacionales Prioritarias\, Categoría B \nFecha: 18 de marzo\nHora: 17:00 h (zona centro)\nLiga: https://bit.ly/4iJ26Qy \nLa categoría “B” está dirigida a proyectos para la maduración y transferencia de tecnologías orientadas a la atención de retos tecnológicos. Para conocer la totalidad de requisitos\, puedes consultar la Convocatoria y sus Términos de Referencia en el siguiente enlace: https://secihti.mx/tecnologias-e-innovacion/convocatorias-desarrollo-tecnologico-vinculacion-e-innovacion/. \n  \nConvocatoria\n3. Estímulo Fiscal a la Investigación y Desarrollo de Tecnología (EFIDT) 2025 \nFecha: 19 de marzo\nHora: 11:00 h (zona centro)\nLiga: https://bit.ly/4bOk3uM \nEl EFIDT es un beneficio fiscal a favor de las y los contribuyentes que inviertan en investigación\, desarrollo y tecnología con el objetivo de incrementar la inversión privada en el país\, propiciando así diversos efectos positivos asociados al sector. Para conocer la totalidad de requisitos\, puedes consultar la Convocatoria y sus Términos de Referencia en el siguiente enlace: https://secihti.mx/tecnologias-e-innovacion/convocatorias-desarrollo-tecnologico-vinculacion-e-innovacion/. \n  \nConvocatoria\n4. Apoyo para la Protección de la Propiedad Intelectual de Desarrollos Tecnológicos \nFecha: 20 de marzo\nHora: 11:00 h (zona centro)\nLiga: https://bit.ly/3XSrLyb \nEsta Convocatoria tiene como fin de incentivar la participación y así contribuir a la protección del conocimiento y da a conocer instrumentos\, modalidades de apoyo y montos a obtener. Para conocer la totalidad de requisitos\, puedes consultar la Convocatoria y sus Términos de Referencia en el siguiente enlace: https://secihti.mx/tecnologias-e-innovacion/convocatorias-desarrollo-tecnologico-vinculacion-e-innovacion/.
URL:https://www.secihti.mx/evento/ciclo-de-sesiones-informativas-convocatorias-de-la-subsecretaria-de-desarrollo-tecnologico-vinculacion-e-innovacion-de-la-secihti/
ATTACH;FMTTYPE=image/jpeg:https://www.secihti.mx/wp-content/uploads/2025/10/Event.jpeg
END:VEVENT
END:VCALENDAR