BEGIN:VCALENDAR
VERSION:2.0
PRODID:-//SECIHTI - ECPv6.15.16//NONSGML v1.0//EN
CALSCALE:GREGORIAN
METHOD:PUBLISH
X-ORIGINAL-URL:https://www.secihti.mx
X-WR-CALDESC:Eventos para SECIHTI
REFRESH-INTERVAL;VALUE=DURATION:PT1H
X-Robots-Tag:noindex
X-PUBLISHED-TTL:PT1H
BEGIN:VTIMEZONE
TZID:America/Mexico_City
BEGIN:STANDARD
TZOFFSETFROM:-0600
TZOFFSETTO:-0600
TZNAME:CST
DTSTART:20240101T000000
END:STANDARD
END:VTIMEZONE
BEGIN:VEVENT
DTSTART;TZID=America/Mexico_City:20250522T080000
DTEND;TZID=America/Mexico_City:20250730T233000
DTSTAMP:20260423T154402
CREATED:20250522T233245Z
LAST-MODIFIED:20251028T232954Z
UID:2551-1747900800-1753918200@www.secihti.mx
SUMMARY:Premio IMPI a la Innovación Mexicana 2025
DESCRIPTION:Información y registro:\nhttps://premioinnovacionmexicana.impi.gob.mx/ \nConvocatoria:\nConvocatoria Premio IMPI 2025 \nSíntesis: \nLa Secretaría de Economía del Gobierno de México\, mediante el Instituto Mexicano de la Propiedad Industrial (IMPI) invitan a participar en el Premio IMPI a la Innovación Mexicana\, en su edición 2025. \nEsta convocatoria tiene como objetivo contribuir a impulsar el potencial innovador del país\, reconociendo y premiando la capacidad inventiva y la creatividad de las personas mexicanas\, brindando estímulos para impulsar la innovación y el desarrollo en México. \nEn esta quinta edición del premio\, el IMPI reconocerá al primer lugar de cada una de las siguientes 11 categorías\, con un monto de $250\,000.00 (DOSCIENTOS CINCUENTA MIL PESOS 00/100 M.N). \nLas categorías por premiar son: \n\nPatente\nRegistro de modelo de utilidad.\nRegistro de diseño industrial.\nInvenciones asociadas a la música.\nInvenciones en materia de agua y sostenibilidad hídrica.\nInvenciones en materia ambiental (tecnología climática / energías limpias: eólicas\, solares\, geotérmicas u otras / sostenibilidad agrícola).\nInvenciones en materia aeroespacial y electromovilidad (trasporte de propulsión eléctrica/fabricación / instalación de carga).\nInvenciones en materia de semiconductores.\nInvenciones dirigidas a la salud (fármacos / biofármacos / dispositivos y tecnología médica).\nJóvenes innovadores (inventores o inventoras de menos de 30 años).\nMujeres inventoras.\n\nDatos de contacto: \nMtra. Mirta Monteagudo Vilchis\, directora general Adjunta de Propiedad Industrial  mirta.monteagudo@impi.gob.mx
URL:https://www.secihti.mx/evento/premio-impi-a-la-innovacion-mexicana-2025/
END:VEVENT
BEGIN:VEVENT
DTSTART;TZID=America/Mexico_City:20250625T170000
DTEND;TZID=America/Mexico_City:20250730T170000
DTSTAMP:20260423T154402
CREATED:20250613T015513Z
LAST-MODIFIED:20251028T232959Z
UID:2555-1750870800-1753894800@www.secihti.mx
SUMMARY:Convocatoria HE Connects 2025 - Alianzas para la educación transnacional e internacionalización Reino Unido - México
DESCRIPTION:Fecha límite de registro: 30 de julio de 2025 (16:59 h\, zona centro de México) \nFecha sesión informativa: 25 de junio de 2025 (17:00 h\, zona centro de México) \nSíntesis: \nLa convocatoria HE Connects 2025 tiene como objetivo construir colaboraciones institucionales y relaciones a largo plazo entre el Reino Unido y México para acelerar las actividades para la internacionalización del sector de la educación superior. \nLas personas interesadas en participar\, deberán enviar su solicitud a través de la institución de educación superior asociada a través de esta plataforma (se requiere registro previo para luego seleccionar HE Connects)\, con base en los criterios y términos de referencia y a más tardar el próximo 30 de julio de 2025\, a las 16:59 h (zona centro de México). \nAsimismo\, British Council invita a participar en la sesión informativa donde se resolverán dudas sobre la presente convocatoria. La sesión se llevará a cabo el 25 de junio de 2025\, a las 17:00 h (zona centro de México). El registro está disponible aquí. \nContacto:\nMonica.Angulo@britishcouncil.org
URL:https://www.secihti.mx/evento/convocatoria-he-connects-2025-alianzas-para-la-educacion-transnacional-e-internacionalizacion-reino-unido-mexico/
END:VEVENT
BEGIN:VEVENT
DTSTART;VALUE=DATE:20250714
DTEND;VALUE=DATE:20250720
DTSTAMP:20260423T154402
CREATED:20250516T044443Z
LAST-MODIFIED:20251028T232951Z
UID:2548-1752469200-1752901199@www.secihti.mx
SUMMARY:Taller de Ciencia para Jóvenes 2025
DESCRIPTION:Información del evento:\nhttps://www.inaoep.mx/vinculacion/actividades-de-divulgacion \nLiga de registro: \nhttps://forms.gle/ifWy8FVju7ivjRDC7 \nFecha límite de registro:\n20 de junio de 2025 \nSíntesis: \nEl Taller de Ciencia para Jóvenes 2025 tiene como objetivo incentivar las vocaciones científicas en las áreas de ciencias\, tecnología\, ingenierías y matemáticas (STEM\, por sus siglas en inglés). De esta forma\, también busca acercar la ciencia a las y los jóvenes a través de charlas\, demostraciones y prácticas en sus laboratorios\, talleres y cursos intensivos de estas áreas. \nLas y los participantes del taller\, tendrán la oportunidad de interactuar con personas investigadoras\, tecnólogas y técnicos que\, de manera práctica\, les involucren en los procesos de investigación científica a lo largo de una semana. \nPara poder participar\, deberás ser estudiante de 2º de bachillerato o preparatoria que se gradúen en 2026. Las personas interesadas\, tendrán que registrarse aquí\, a más tardar el próximo 20 de junio de 2025. El evento es gratuito\, cupo limitado a 30 participantes. \nPara más información\, se pone a disposición el siguiente enlace: https://www.inaoep.mx/vinculacion/actividades-de-divulgacion \nDatos de contacto:\nAna María Ramírez Barreda (tcj@inaoep.mx). \nTel. 222 266 3100\, ext. 7013.
URL:https://www.secihti.mx/evento/taller-de-ciencia-para-jovenes-2025-2/
ATTACH;FMTTYPE=image/jpeg:https://www.secihti.mx/wp-content/uploads/2025/10/WhatsApp-Image-2025-05-15-at-4.30.58-PM.jpeg
END:VEVENT
BEGIN:VEVENT
DTSTART;TZID=America/Mexico_City:20250714T080000
DTEND;TZID=America/Mexico_City:20250718T170000
DTSTAMP:20260423T154402
CREATED:20250524T002750Z
LAST-MODIFIED:20250524T003640Z
UID:1185-1752480000-1752858000@www.secihti.mx
SUMMARY:Taller de Ciencia para Jóvenes 2025
DESCRIPTION:  \n\nInformación del evento:https://www.inaoep.mx/vinculacion/actividades-de-divulgacion \n\nLiga de registro:https://forms.gle/ifWy8FVju7ivjRDC7 \n\nFecha límite de registro:20 de junio de 2025 \n\nEl Taller de Ciencia para Jóvenes 2025 tiene como objetivo incentivar las vocaciones científicas en las áreas de ciencias\, tecnología\, ingenierías y matemáticas (STEM\, por sus siglas en inglés). De esta forma\, también busca acercar la ciencia a las y los jóvenes a través de charlas\, demostraciones y prácticas en sus laboratorios\, talleres y cursos intensivos de estas áreas. \n\nLas y los participantes del taller\, tendrán la oportunidad de interactuar con personas investigadoras\, tecnólogas y técnicos que\, de manera práctica\, les involucren en los procesos de investigación científica a lo largo de una semana. \n\nPara poder participar\, deberás ser estudiante de 2º de bachillerato o preparatoria que se gradúen en 2026. Las personas interesadas\, tendrán que registrarse aquí\, a más tardar el próximo 20 de junio de 2025. El evento es gratuito\, cupo limitado a 30 participantes. \n\nPara más información\, se pone a disposición el siguiente enlace:https://www.inaoep.mx/vinculacion/actividades-de-divulgacion \n\nDatos de contacto: \n\nAna María Ramírez Barredatcj@inaoep.mx \n\nTel. 222 266 3100 ext. 7013
URL:https://www.secihti.mx/evento/taller-de-ciencia-para-jovenes-2025/
END:VEVENT
BEGIN:VEVENT
DTSTART;TZID=America/Mexico_City:20250717T110000
DTEND;TZID=America/Mexico_City:20250717T110000
DTSTAMP:20260423T154402
CREATED:20250717T081824Z
LAST-MODIFIED:20251028T233009Z
UID:5605-1752750000-1752750000@www.secihti.mx
SUMMARY:Sesión informativa convocatoria “Divulgación Comunitaria de la Ciencia y las Humanidades 2025”
DESCRIPTION:Liga de transmisión:\nbit.ly/45R8MZM \n  \nSíntesis:\nLa Secretaría de Ciencia\, Humanidades\, Tecnología e Innovación (Secihti) invita a seguir la transmisión de la sesión informativa para dar a conocer detalles y resolver dudas de la convocatoria “Divulgación Comunitaria de la Ciencia y las Humanidades 2025”.
URL:https://www.secihti.mx/evento/sesion-informativa-convocatoria-divulgacion-comunitaria-de-la-ciencia-y-las-humanidades-2025/
ATTACH;FMTTYPE=image/jpeg:https://www.secihti.mx/wp-content/uploads/2025/10/Imagen1-2-1.jpg
END:VEVENT
END:VCALENDAR