BEGIN:VCALENDAR
VERSION:2.0
PRODID:-//SECIHTI - ECPv6.15.16//NONSGML v1.0//EN
CALSCALE:GREGORIAN
METHOD:PUBLISH
X-WR-CALNAME:SECIHTI
X-ORIGINAL-URL:https://www.secihti.mx
X-WR-CALDESC:Eventos para SECIHTI
REFRESH-INTERVAL;VALUE=DURATION:PT1H
X-Robots-Tag:noindex
X-PUBLISHED-TTL:PT1H
BEGIN:VTIMEZONE
TZID:America/Mexico_City
BEGIN:STANDARD
TZOFFSETFROM:-0600
TZOFFSETTO:-0600
TZNAME:CST
DTSTART:20240101T000000
END:STANDARD
END:VTIMEZONE
BEGIN:VEVENT
DTSTART;VALUE=DATE:20250901
DTEND;VALUE=DATE:20251009
DTSTAMP:20260423T105142
CREATED:20250902T033535Z
LAST-MODIFIED:20251028T233015Z
UID:5609-1756702800-1759899599@www.secihti.mx
SUMMARY:Convocatoria 2026-2027 Becas Chevening
DESCRIPTION:Fecha límite de aplicación:\n7 de octubre 2025 \nInformación y registro: \nchevening.org/scholarship/mexico/ \nSíntesis: \nBecas Chevening es un programa de liderazgo financiado por el Ministerio de Asuntos Exteriores\, Mancomunidad y Desarrollo Británicos (FCDO). Esta beca\, brinda la oportunidad a futuros lideres de estudiar una maestría de un año en cualquier disciplina y en cualquier universidad británica\, con financiamiento del 100 por ciento para manutención\, matrícula y gastos de viaje; cualquier otro gasto adicional\, correrá a cargo de la persona interesada en participar. \nEl objetivo principal es que\, una vez terminados sus estudios\, las y los becarios establezcan relaciones duraderas con el Reino Unido y regresen a su país de origen para lograr un impacto social positivo en su área de interés. \nPara conocer los criterios de elegibilidad\, áreas de apoyo\, proceso de aplicación y más información de importancia\, se invita consultar los siguientes documentos: \n\nDocumento informativo;\nChevening en México\, y\nDudas frecuentes.\n\nLas personas interesadas en participar\, deberán realizar su aplicación a más tardar el 7 de octubre 2025\, en el siguiente portal: chevening.org/scholarship/mexico/. \n 
URL:https://www.secihti.mx/evento/convocatoria-2026-2027-becas-chevening/
ATTACH;FMTTYPE=image/jpeg:https://www.secihti.mx/wp-content/uploads/2025/10/STUDY_UK.jpg
END:VEVENT
BEGIN:VEVENT
DTSTART;TZID=America/Mexico_City:20250905T080000
DTEND;TZID=America/Mexico_City:20251014T200000
DTSTAMP:20260423T105142
CREATED:20250906T072247Z
LAST-MODIFIED:20251028T233016Z
UID:5611-1757059200-1760472000@www.secihti.mx
SUMMARY:Convocatoria Beca para mujeres en STEM 2026 de ALABC
DESCRIPTION:Información y registro:\nalabc.com.au/Women-in-STEM-Scholarship \nSíntesis: \nEl Australia-Latin America Business Council (ALABC) y la Universidad de Newcastle invitan a participar en la convocatoria “Beca para mujeres en STEM 2026”\, que ofrece a una estudiante destacada de América Latina en los campos de Ciencia\, Tecnología\, Ingeniería\, Arquitectura y Matemáticas (STEM\, por sus siglas en inglés) la oportunidad de realizar estudios en la Universidad de Newcastle\, en Australia. \nLas personas interesadas en participar\, deberán registrarse a más tardar el 14 de octubre de 2025\, a las 8:00 h (zona centro de México)\, a través del siguiente enlace: alabc.com.au/Women-in-STEM-Scholarship. \n  \n 
URL:https://www.secihti.mx/evento/convocatoria-beca-para-mujeres-en-stem-2026-de-alabc/
ATTACH;FMTTYPE=image/jpeg:https://www.secihti.mx/wp-content/uploads/2025/10/Imagen1-4.jpg
END:VEVENT
BEGIN:VEVENT
DTSTART;TZID=America/Mexico_City:20250905T080000
DTEND;TZID=America/Mexico_City:20261231T200000
DTSTAMP:20260423T105143
CREATED:20250906T070712Z
LAST-MODIFIED:20251201T165102Z
UID:5610-1757059200-1798747200@www.secihti.mx
SUMMARY:Convocatorias Becas Australian Catholic University
DESCRIPTION:Información:\nacu.edu.au/study-at-acu/fees-and-scholarships/find-a-scholarship \nSíntesis: \nLa Universidad Católica de Australia (ACU\, por sus siglas en inglés) abre convocatorias para tres nuevas becas internacionales para estudiantes de Latinoamérica. Estas oportunidades están diseñadas para apoyar a estudiantes internacionales destacados que cursan programas en todos los niveles de estudio\, desde pregrado hasta doctorado. \nPara información sobre aplicación\, requisitos\, criterios de selección y más detalles sobre cada convocatoria\, se invita a revisar los enlaces correspondientes. De igual forma\, se invita a consultar la oferta completa de la ACU\, en la siguiente liga: acu.edu.au/study-at-acu/fees-and-scholarships/find-a-scholarship. \n\nACU International Launch Scholarship \n\nLas y los estudiantes internacionales elegibles que se inscriban en los nuevos programas en ACU\, como los programas insignia de Informática y Ciencias de Datos\, tienen garantizada una reducción del 20% en la matrícula para el comienzo de sus estudios en 2026. \nCierre de convocatoria: 31 de diciembre 2026 \nMás información en: https://acu.smapply.io/res/p/LIS-Cmg3q-GVMk2/. \n\nACU Flourishing Lives International Scholarship\n\nBecas para estudiantes latinoamericanos off-shore\, que comiencen sus estudios una reducción del 20% en la matrícula en casi todos sus carreras. \nCierre de convocatoria: 31 de diciembre 2026 \nMás información en: https://acu.smapply.io/res/p/FLIS-Cmg3q/ \n\nACU Vice Chancellor’s PhD Excellence Scholarship \n\nSu beca más prestigiosa\, basada en el mérito\, que apoya a destacados doctorandos internacionales. Cada beneficiario obtiene una exención del 100% de la matrícula durante la duración completa del curso\, además de un estipendio anual y asignaciones adicionales para cobertura médica y reubicación. \nMás información en: acu.edu.au/research-and-enterprise/graduate-research-school/study. \nContacto:\nJuliana Beltrán\, gerente de reclutamiento y vinculación de la ACU en América Latina (Juliana.Beltran@acu.edu.au)
URL:https://www.secihti.mx/evento/convocatorias-becas-australian-catholic-university/
CATEGORIES:Otros Organizadores
END:VEVENT
END:VCALENDAR