BEGIN:VCALENDAR
VERSION:2.0
PRODID:-//SECIHTI - ECPv6.15.16//NONSGML v1.0//EN
CALSCALE:GREGORIAN
METHOD:PUBLISH
X-WR-CALNAME:SECIHTI
X-ORIGINAL-URL:https://www.secihti.mx
X-WR-CALDESC:Eventos para SECIHTI
REFRESH-INTERVAL;VALUE=DURATION:PT1H
X-Robots-Tag:noindex
X-PUBLISHED-TTL:PT1H
BEGIN:VTIMEZONE
TZID:America/Mexico_City
BEGIN:STANDARD
TZOFFSETFROM:-0600
TZOFFSETTO:-0600
TZNAME:CST
DTSTART:20240101T000000
END:STANDARD
END:VTIMEZONE
BEGIN:VEVENT
DTSTART;TZID=America/Mexico_City:20250905T080000
DTEND;TZID=America/Mexico_City:20261231T200000
DTSTAMP:20260423T092735
CREATED:20250906T070712Z
LAST-MODIFIED:20251201T165102Z
UID:5610-1757059200-1798747200@www.secihti.mx
SUMMARY:Convocatorias Becas Australian Catholic University
DESCRIPTION:Información:\nacu.edu.au/study-at-acu/fees-and-scholarships/find-a-scholarship \nSíntesis: \nLa Universidad Católica de Australia (ACU\, por sus siglas en inglés) abre convocatorias para tres nuevas becas internacionales para estudiantes de Latinoamérica. Estas oportunidades están diseñadas para apoyar a estudiantes internacionales destacados que cursan programas en todos los niveles de estudio\, desde pregrado hasta doctorado. \nPara información sobre aplicación\, requisitos\, criterios de selección y más detalles sobre cada convocatoria\, se invita a revisar los enlaces correspondientes. De igual forma\, se invita a consultar la oferta completa de la ACU\, en la siguiente liga: acu.edu.au/study-at-acu/fees-and-scholarships/find-a-scholarship. \n\nACU International Launch Scholarship \n\nLas y los estudiantes internacionales elegibles que se inscriban en los nuevos programas en ACU\, como los programas insignia de Informática y Ciencias de Datos\, tienen garantizada una reducción del 20% en la matrícula para el comienzo de sus estudios en 2026. \nCierre de convocatoria: 31 de diciembre 2026 \nMás información en: https://acu.smapply.io/res/p/LIS-Cmg3q-GVMk2/. \n\nACU Flourishing Lives International Scholarship\n\nBecas para estudiantes latinoamericanos off-shore\, que comiencen sus estudios una reducción del 20% en la matrícula en casi todos sus carreras. \nCierre de convocatoria: 31 de diciembre 2026 \nMás información en: https://acu.smapply.io/res/p/FLIS-Cmg3q/ \n\nACU Vice Chancellor’s PhD Excellence Scholarship \n\nSu beca más prestigiosa\, basada en el mérito\, que apoya a destacados doctorandos internacionales. Cada beneficiario obtiene una exención del 100% de la matrícula durante la duración completa del curso\, además de un estipendio anual y asignaciones adicionales para cobertura médica y reubicación. \nMás información en: acu.edu.au/research-and-enterprise/graduate-research-school/study. \nContacto:\nJuliana Beltrán\, gerente de reclutamiento y vinculación de la ACU en América Latina (Juliana.Beltran@acu.edu.au)
URL:https://www.secihti.mx/evento/convocatorias-becas-australian-catholic-university/
CATEGORIES:Otros Organizadores
END:VEVENT
BEGIN:VEVENT
DTSTART;VALUE=DATE:20251020
DTEND;VALUE=DATE:20260113
DTSTAMP:20260423T092735
CREATED:20251021T073110Z
LAST-MODIFIED:20251201T170251Z
UID:5617-1760918400-1768262399@www.secihti.mx
SUMMARY:Convocatoria III Premio Nacional de Políticas Públicas
DESCRIPTION:Plataforma de registro:\nhttps://registropoliticaspublicas.udem.edu.mx/ \nSíntesis: \nCon el objetivo de promover el análisis de los problemas públicos y la formulación de propuestas de políticas públicas\, El Colegio de México (Colmex) y la Universidad de Monterrey (Udem) convocan a estudiantes de licenciatura o de posgrado\, así como al profesorado y a la comunidad académica y de investigación residentes en México\, funcionarios de alguna dependencia gubernamental u órganos autónomos en cualquiera de los tres niveles de Gobierno\, miembros de Think Tanks\, organizaciones de la sociedad civil o de órganos consultivos de transferencia de conocimiento establecidos en México cuya misión principal sea la investigación a presentar trabajos para obtener el III Premio Nacional de Políticas Públicas\, conforme a las siguientes bases: https://www.udem.edu.mx/es/institucional/convocatoria-premio-nacional-de-politicas-publicas. \nLa publicación de resultados se dará a conocer el día 8 de mayo de 2026\, en la página https://www.udem.edu.mx/es/institucional/instituto-de-estudios-politicos \nContacto:\nJuan Carlos Montero Bagatella (juan.montero@udem.edu)
URL:https://www.secihti.mx/evento/convocatoria-iii-premio-nacional-de-politicas-publicas/
CATEGORIES:Otros Organizadores
ATTACH;FMTTYPE=image/jpeg:https://www.secihti.mx/wp-content/uploads/2025/10/Imagen1-6.jpg
END:VEVENT
BEGIN:VEVENT
DTSTART;VALUE=DATE:20251027
DTEND;VALUE=DATE:20251202
DTSTAMP:20260423T092735
CREATED:20251028T090009Z
LAST-MODIFIED:20251028T233022Z
UID:5619-1761541200-1764565199@www.secihti.mx
SUMMARY:Convocatoria vigente IPCC sobre la revisión de Expertos del Primer Borrador del Informe Especial sobre Cambio Climático y Ciudades
DESCRIPTION:Fecha límite de registro:\n30 de noviembre 2025 \nConvocatoria: \nhttps://www.gob.mx/inecc/articulos/convocatoria-vigente-ipcc-revision-de-expertos-del-primer-borrador-del-informe-especial-sobre-cambio-climatico-y-ciudades \nSíntesis:\nEl Instituto Nacional de Ecología y Cambio Climático (INECC)\, en su calidad de Punto Focal de México ante el Grupo Intergubernamental sobre Cambio Climático (IPCC\, por sus siglas en inglés)\, invita a la comunidad científica\, académica y técnica del país a participar en la convocatoria del IPCC para formar parte de la Revisión de Expertos del Borrador de Primer Orden (FOD por sus siglas en inglés) del Informe Especial sobre Cambio Climático y Ciudades (Special Report on Climate Change and Cities). \nEste informe forma parte del Séptimo Ciclo de Evaluación (AR7) del IPCC y representa un esfuerzo conjunto de los Grupos de Trabajo I\, II y III\, enfocado en proporcionar una evaluación científica equilibrada y exhaustiva sobre los vínculos entre el cambio climático y el desarrollo urbano \nRevisa requisitos y criterios de participación en el portal de la convocatoria. Las personas interesadas en participar\, tienen hasta el 30 de noviembre de 2025 para registrarse. \nContacto:\njesus.munoz@inecc.gob.mx
URL:https://www.secihti.mx/evento/convocatoria-vigente-ipcc-sobre-la-revision-de-expertos-del-primer-borrador-del-informe-especial-sobre-cambio-climatico-y-ciudades/
ATTACH;FMTTYPE=image/jpeg:https://www.secihti.mx/wp-content/uploads/2025/10/WhatsApp-Image-2025-10-27-at-7.18.48-PM.jpeg
END:VEVENT
END:VCALENDAR