BEGIN:VCALENDAR
VERSION:2.0
PRODID:-//SECIHTI - ECPv6.15.16//NONSGML v1.0//EN
CALSCALE:GREGORIAN
METHOD:PUBLISH
X-ORIGINAL-URL:https://www.secihti.mx
X-WR-CALDESC:Eventos para SECIHTI
REFRESH-INTERVAL;VALUE=DURATION:PT1H
X-Robots-Tag:noindex
X-PUBLISHED-TTL:PT1H
BEGIN:VTIMEZONE
TZID:America/Mexico_City
BEGIN:STANDARD
TZOFFSETFROM:-0600
TZOFFSETTO:-0600
TZNAME:CST
DTSTART:20240101T000000
END:STANDARD
END:VTIMEZONE
BEGIN:VEVENT
DTSTART;VALUE=DATE:20250305
DTEND;VALUE=DATE:20250620
DTSTAMP:20260424T070721
CREATED:20250220T072208Z
LAST-MODIFIED:20251028T232412Z
UID:2518-1741150800-1750309199@www.secihti.mx
SUMMARY:Curso “Innovación y Emprendimiento en Salud 2025”
DESCRIPTION:Información y registro:\nitesalud.com \nConvocatoria: \nLa Secretaría de Salud del Gobierno de México\, en concurrencia con otras instituciones de salud e instituciones de educación superior (IES) extienden una invitación a participar en el Curso “Innovación y Emprendimiento en Salud 2025”\, que se realizará del 5 de marzo al 18 de junio de 2025 en modalidad híbrida; presencial en el Centro de Ciencias de la Complejidad de la Universidad Nacional Autónoma de México (UNAM) y virtual a través de Zoom. \nEl programa está diseñado para personas investigadoras\, académicas\, profesionales y estudiantes del área de salud\, con el objetivo de desarrollar el máximo potencial de investigaciones originales en ciencias de la salud para impulsar la creación de empresas innovadoras con responsabilidad social. Entre los temas clave se encuentran: \n\nIntroducción a la innovación y el emprendimiento en salud.\nIngeniería y biotecnología aplicadas a la salud.\nTendencias y oportunidades en el sector salud.\nAspectos regulatorios para investigación en salud.\nTecnologías disruptivas en salud.\n\nLas personas interesadas\, deberán registrarse en el siguiente enlace: itesalud.com. Para conocer más\, se invita a revisar la nota informativa.
URL:https://www.secihti.mx/evento/curso-innovacion-y-emprendimiento-en-salud-2025/
ATTACH;FMTTYPE=image/png:https://www.secihti.mx/wp-content/uploads/2025/10/SALUD.png
END:VEVENT
BEGIN:VEVENT
DTSTART;TZID=America/Mexico_City:20250324T090000
DTEND;TZID=America/Mexico_City:20250504T090000
DTSTAMP:20260424T070721
CREATED:20250325T030311Z
LAST-MODIFIED:20251028T232602Z
UID:2533-1742806800-1746349200@www.secihti.mx
SUMMARY:Taller virtual para promover el rol de las mujeres en la adaptación y mitigación del cambio climático mediante el abordaje de la NDC de México
DESCRIPTION:Registro: \nhttps://acortar.link/WPXRJp \nSíntesis:\nBritish Council\, en asociación con la Universidad de Birmingham y el Tecnológico de Monterrey invitan investigadoras e investigadores con sede en México y Reino Unido a participar y explorar los desafíos relacionados con la igualdad de género y la resiliencia climática\, particularmente a través de soluciones acreditadas como innovadoras. \nEl taller\, organizado en cinco sesiones\, tiene el objetivo de fomentar la colaboración entre investigadores jóvenes de ambos países\, reconociendo el valor de las perspectivas diversas para abordar los desafíos que se presentan en la actualidad ante un panorama mundial. De igual manera\, trata de ofrecer a los equipos de investigación la oportunidad de competir por la financiación inicial para materializar sus ideas innovadoras. \nLas sesiones tendrán lugar los días 13\, 14\, 15 y 22 de mayo\, y el 5 de junio\, con inicio de actividades a partir de las 9:00 h (zona centro de México). Las personas interesadas en participar\, deberán llenar su registro adecuadamente antes del 4 de mayo de 2025. \nPara más información sobre los criterios de elegibilidad\, mecanismo de aplicación\, consulta de premios y demás datos relevantes\, se invita a ingresar a los códigos QR que se muestra en el gráfico o en el siguiente enlace: https://acortar.link/dRUltd. \nSesiones en línea: \n13 de mayo de 2025 \n14 de mayo de 2025 \n15 de mayo de 2025 \n22 de mayo de 2025 \n5 de junio de 2025
URL:https://www.secihti.mx/evento/taller-virtual-para-promover-el-rol-de-las-mujeres-en-la-adaptacion-y-mitigacion-del-cambio-climatico-mediante-el-abordaje-de-la-ndc-de-mexico/
ATTACH;FMTTYPE=image/jpeg:https://www.secihti.mx/wp-content/uploads/2025/10/event.jpg
END:VEVENT
BEGIN:VEVENT
DTSTART;TZID=America/Mexico_City:20250404T110000
DTEND;TZID=America/Mexico_City:20250404T110000
DTSTAMP:20260424T070721
CREATED:20250403T044341Z
LAST-MODIFIED:20251028T232929Z
UID:2538-1743764400-1743764400@www.secihti.mx
SUMMARY:Sesión informativa: convocatoria Proyectos de Investigación Científica y Humanística en Ejes Estratégicos 2025
DESCRIPTION:Síntesis: \nEn el marco de la apertura de las Convocatorias de Ciencia y Humanidades\, la Secretaría de Ciencia\, Humanidades\, Tecnología e Innovación (Secihti) organiza la “Sesión informativa de la Convocatoria de Proyectos de Investigación Científica y Humanístico en Ejes Estratégicos 2025” \nEl objetivo de esta sesión es dar a conocer los alcances\, objetivos\, bases\, requisitos y rubros de la Convocatoria en mención; así como los pasos para el registro de propuestas. \nConsulta la liga de transmisión de la sesión informativa: https://bit.ly/4iYsKVU \nPrograma: \n– Mensaje: \nVioleta Vázquez Rojas Maldonado\, subsecretaria de Ciencia y Humanidades de la Secihti. \n– Presentación de la Convocatoria: \nAndrés Eduardo Triana Moreno\, Secihti. \n– Presentación de video tutorial para registro de propuestas en el sistema informático SALSA.
URL:https://www.secihti.mx/evento/sesion-informativa-convocatoria-proyectos-de-investigacion-cientifica-y-humanistica-en-ejes-estrategicos-2025/
ATTACH;FMTTYPE=image/jpeg:https://www.secihti.mx/wp-content/uploads/2025/10/Redes_Presentacion-de-Convocatoria-PdeICyH-8-Ejes_FB-1.jpeg
END:VEVENT
BEGIN:VEVENT
DTSTART;VALUE=DATE:20250407
DTEND;VALUE=DATE:20250413
DTSTAMP:20260424T070721
CREATED:20250408T024820Z
LAST-MODIFIED:20251028T232938Z
UID:2537-1744002000-1744433999@www.secihti.mx
SUMMARY:Presentación de ejes estratégicos de la Convocatoria de Proyectos de Investigación Científica y Humanística de la Secihti
DESCRIPTION:Síntesis:\nPara dar a conocer información y datos relevantes sobre la nueva convocatoria de Proyectos de Investigación Científica y Humanístico en Ejes Estratégicos 2025\, la Secretaría de Ciencia\, Humanidades\, Tecnología e Innovación (Secihti) invita a participar en las sesiones informativas a desarrollarse en la semana del 7 al 11 de abril de 2025\, conforme al siguiente calendario: \n  \nEje Estratégico\n1. Inclusión\, pobreza y desigualdad \nFecha: Jueves 10 de abril \nHora: 12:00 h (zona centro)\nLugar: El Colegio de México (Colmex)\nTransmisión: https://acortar.link/kWlorR \n  \nEje Estratégico\n2. Mejoramiento de cultivos de maíz y frijol \nFecha: Viernes 11 de abril\nHora: 11:00 h (zona centro)\nLugar: Instituto Nacional de Investigaciones Forestales\, Agrícolas y Pecuarias (INIFAP)\nTransmisión: https://acortar.link/Xj2ihi \n  \nEl objetivo de la convocatoria es impulsar la investigación en diversas áreas y campos del saber científico y humanístico con enfoque en la atención a problemas prioritarios definidos como ejes estratégicos en la Agenda Nacional\, que aborde retos concretos y cuyos resultados incidan en el diseño e implementación de planes\, programas y políticas públicas. \n 
URL:https://www.secihti.mx/evento/presentacion-de-ejes-estrategicos-de-la-convocatoria-de-proyectos-de-investigacion-cientifica-y-humanistica-de-la-secihti-2-2/
ATTACH;FMTTYPE=image/png:https://www.secihti.mx/wp-content/uploads/2025/06/grafico1.png
END:VEVENT
BEGIN:VEVENT
DTSTART;VALUE=DATE:20250407
DTEND;VALUE=DATE:20250413
DTSTAMP:20260424T070721
CREATED:20250408T024820Z
LAST-MODIFIED:20250628T001646Z
UID:2539-1744002000-1744433999@www.secihti.mx
SUMMARY:Presentación de ejes estratégicos de la Convocatoria de Proyectos de Investigación Científica y Humanística de la Secihti
DESCRIPTION:Síntesis:\nPara dar a conocer información y datos relevantes sobre la nueva convocatoria de Proyectos de Investigación Científica y Humanístico en Ejes Estratégicos 2025\, la Secretaría de Ciencia\, Humanidades\, Tecnología e Innovación (Secihti) invita a participar en las sesiones informativas a desarrollarse en la semana del 7 al 11 de abril de 2025\, conforme al siguiente calendario: \n  \nEje Estratégico\n1. Inclusión\, pobreza y desigualdad \nFecha: Jueves 10 de abril \nHora: 12:00 h (zona centro)\nLugar: El Colegio de México (Colmex)\nTransmisión: https://acortar.link/kWlorR \n  \nEje Estratégico\n2. Mejoramiento de cultivos de maíz y frijol \nFecha: Viernes 11 de abril\nHora: 11:00 h (zona centro)\nLugar: Instituto Nacional de Investigaciones Forestales\, Agrícolas y Pecuarias (INIFAP)\nTransmisión: https://acortar.link/Xj2ihi \n  \nEl objetivo de la convocatoria es impulsar la investigación en diversas áreas y campos del saber científico y humanístico con enfoque en la atención a problemas prioritarios definidos como ejes estratégicos en la Agenda Nacional\, que aborde retos concretos y cuyos resultados incidan en el diseño e implementación de planes\, programas y políticas públicas. \n 
URL:https://www.secihti.mx/evento/presentacion-de-ejes-estrategicos-de-la-convocatoria-de-proyectos-de-investigacion-cientifica-y-humanistica-de-la-secihti-2/
CATEGORIES:Presentación,Secihti
ATTACH;FMTTYPE=image/png:https://www.secihti.mx/wp-content/uploads/2025/06/grafico1.png
END:VEVENT
BEGIN:VEVENT
DTSTART;TZID=America/Mexico_City:20250411T080000
DTEND;TZID=America/Mexico_City:20250411T170000
DTSTAMP:20260424T070721
CREATED:20250321T054023Z
LAST-MODIFIED:20251028T232602Z
UID:2532-1744358400-1744390800@www.secihti.mx
SUMMARY:I Convocatoria Iberoamérica Digital 2025
DESCRIPTION:Convocatoria:\nhttps://acortar.link/hpjw3b \nSíntesis: \nLa Secretaría General Iberoamericana invita a participar en la I Convocatoria Iberoamérica Digital\, la cual tiene el objetivo de fortalecer y apoyar las líneas de trabajo de los Programas\, Iniciativas y Proyectos Adscritos (PIPA) de la cooperación iberoamericana  y las Redes Iberoamericanas inscritas en el Registro de Redes\, en aquellas actividades y proyectos enfocados en la generación de conocimiento y fortalecimiento de capacidades en materia de transformación digital\, alineados con la Carta Iberoamericana de Principios y Derechos en los Entornos Digitales (CIPDED). \nLos proyectos deben estar orientados hacia una de las siguientes dos líneas: \n\nGeneración de conocimiento: Estudios\, Informes\, Recomendaciones\, Estándares\, el desarrollo de investigaciones\, la creación y/o adopción de instrumentos y/o herramientas de cooperación concretas y otros tipos de producción de conocimiento en materia de transformación digital.\nFortalecimiento de capacidades: Capacitaciones\, Certificaciones\, Cursos\, Formaciones y/o el desarrollo de herramientas y otras soluciones tecnológicas que contribuyan al fortalecimiento de las capacidades de los PIPA y Redes para trabajar\, dentro de sus respectivos sectores\, en aquello que concierna a la transformación digital.\n\nLas personas interesadas en postular\, podrán hacerlo hasta el 11 de abril de 2025 a las 17:00 (zona centro de México). Las inscripciones deberán ser realizadas únicamente a través del correo electrónico cguerrero@segib.org. \nPara más información\, montos de apoyo\, requisitos\, documentación a presentar\, criterios de selección y otras disposiciones generales\, se pone a disposición el siguiente enlace: https://acortar.link/hpjw3b.
URL:https://www.secihti.mx/evento/i-convocatoria-iberoamerica-digital-2025/
ATTACH;FMTTYPE=image/png:https://www.secihti.mx/wp-content/uploads/2025/10/Imagen1-2.png
END:VEVENT
BEGIN:VEVENT
DTSTART;TZID=America/Mexico_City:20250415T050000
DTEND;TZID=America/Mexico_City:20250415T233000
DTSTAMP:20260424T070721
CREATED:20250123T003829Z
LAST-MODIFIED:20251028T232407Z
UID:2511-1744693200-1744759800@www.secihti.mx
SUMMARY:Programa de becas para mujeres en STEM 2025-2026
DESCRIPTION:Bases e información:\nhttps://bit.ly/3BYQTMh \n\nConvocatoria: \nEl British Council ofrece becas completas a mujeres activas en campos de ciencias\, tecnologías\, ingenierías y matemáticas (STEM\, por sus siglas en inglés) para que estudien una maestría en universidades del Reino Unido con amplia experiencia en investigación. \nCada beca incluye apoyos económicos para pagos de matrícula o inscripción y el subsidio por 12 meses\, para cubrir gastos de alojamiento\, viaje\, visado y seguro médico\, entre otros beneficios\, para el ciclo escolar 2025-2026; los gastos no contemplados en la presente convocatoria\, deberán ser cubiertos por cuenta de la persona solicitante. \nSe otorgarán hasta 10 becas para mujeres mexicanas en la Universidad de Durham o en la Universidad de Essex\, también en Inglaterra\, por primera ocasión en alianza con la Fundación Coppel de México. \nCada universidad cuenta con su página web para gestionar admisiones. Toda la información sobre los programas participantes\, requisitos y procesos de selección\, favor de visitar la siguiente liga: https://bit.ly/3BYQTMh. \nLa fecha límite de postulación para la Universidad de Durham es hasta el 16 de marzo de 2025; para la Universidad de Essex\, hasta el 15 de abril de 2025. \n  \nDudas y contacto:\nPara resolver tus dudas sobre el proceso de postulación\, criterios de elegibilidad y beneficios del Programa de becas para mujeres en STEM\, se invita a unirse vía Zoom\, a la sesión informativa de preguntas y respuestas este 25 de febrero\, a las 10:00 h. Registra tu asistencia a través del siguiente enlace: https://bit.ly/4jG2mkz. \nuk.scholarships@britishcouncil.org.
URL:https://www.secihti.mx/evento/programa-de-becas-para-mujeres-en-stem-2025-2026/
ATTACH;FMTTYPE=image/jpeg:https://www.secihti.mx/wp-content/uploads/2025/10/Imagen1.jpg
END:VEVENT
BEGIN:VEVENT
DTSTART;TZID=America/Mexico_City:20250415T133000
DTEND;TZID=America/Mexico_City:20250505T200000
DTSTAMP:20260424T070721
CREATED:20250416T012936Z
LAST-MODIFIED:20251028T232941Z
UID:2542-1744723800-1746475200@www.secihti.mx
SUMMARY:Convocatoria "Reconocimientos Nacionales a la Calidad en Salud 2025" de la Secretaría de Salud
DESCRIPTION:Información:\nhttps://acortar.link/omAPjt \nSíntesis: \nLa Secretaría de Salud del Gobierno de México\, invita a participar en la convocatoria “Reconocimientos Nacionales a la Calidad en Salud 2025”. Esta convocatoria\, exhorta a postular\, ante el Jurado Calificador\, a personas destacadas en los siguientes campos: \n– Trabajo Social: Para recibir el “Reconocimiento Nacional de Trabajo Social en el Sistema Nacional de Salud 2025”. \n– Calidad de la Atención y Seguridad del Paciente: Para recibir el “Reconocimiento Nacional a la Gestión de la Calidad y Seguridad en la Atención de la Salud 2025”. \nAsimismo\, se invita a los establecimientos públicos de atención médica integrantes del SNS que cuenten con Clave Única de Establecimientos de Salud (CLUES) a presentar proyectos de investigación en calidad y seguridad en la atención de la salud. Estos proyectos deben estar alineados con los temas prioritarios de salud pública del país y podrán ser considerados para el “Reconocimiento Nacional a Proyectos de Investigación en Calidad y Seguridad de la Atención en Salud 2025”. \nPara más datos\, se invita a revisar la Convocatoria\, así como el tríptico informativo. La convocatoria estará abierta hasta las 20:00 horas del día 5 de mayo 2025.
URL:https://www.secihti.mx/evento/convocatoria-reconocimientos-nacionales-a-la-calidad-en-salud-2025-de-la-secretaria-de-salud/
END:VEVENT
BEGIN:VEVENT
DTSTART;TZID=America/Mexico_City:20250415T190000
DTEND;TZID=America/Mexico_City:20250430T235900
DTSTAMP:20260424T070721
CREATED:20250416T070031Z
LAST-MODIFIED:20251028T232941Z
UID:2543-1744743600-1746057540@www.secihti.mx
SUMMARY:Convocatoria Research Partnership Grant 2025
DESCRIPTION:Información: \nlatinamerica.unisg.ch/en/leading-house/ \nSíntesis: \nLa Secretaría Estatal de Educación\, Investigación e Innovación de Suiza y la Universidad de San Galo\, invitan a participar en la convocatoria “Research Partnership Grant 2025”\, cuyo objetivo es fomentar nuevas colaboraciones entre universidades e instituciones de Suiza y América Latina. \nEste programa ofrece un fondo de 25 mil CHF (aproximadamente 620 mil pesos mexicanos) para apoyar proyectos conjuntos de investigación. Para más información\, se invita a consultar la convocatoria y el siguiente enlace: latinamerica.unisg.ch/en/leading-house/ \nLas personas interesadas en participar\, tendrán la oportunidad de postularse hasta el 30 de abril de 2025.
URL:https://www.secihti.mx/evento/convocatoria-research-partnership-grant-2025/
END:VEVENT
BEGIN:VEVENT
DTSTART;TZID=America/Mexico_City:20250420T180000
DTEND;TZID=America/Mexico_City:20250430T235900
DTSTAMP:20260424T070721
CREATED:20250321T054514Z
LAST-MODIFIED:20251028T232601Z
UID:2530-1745172000-1746057540@www.secihti.mx
SUMMARY:Encuesta Global sobre el Estado de la Investigación y la Infraestructura en Ciencia y Tecnología Cuánticas
DESCRIPTION:Encuesta: \nhttps://acortar.link/jxo6Vu \nConvocatoria: \nLa Organización de las Naciones Unidas para la Educación\, la Ciencia y la Cultura (UNESCO)\, a través de la Comisión Mexicana de Cooperación (CONALMEX)\, invita a expertas\, expertos\, centros de investigación e instituciones científicas y universidades a participar en la “Encuesta Global sobre el Estado de la Investigación y la Infraestructura en Ciencia y Tecnología Cuánticas“\, como parte de las actividades conmemorativas del “2025: Año Internacional de la Ciencia y la Tecnología Cuánticas”\, proclamado por la Asamblea General de las Naciones Unidas el 7 de junio de 2024. \nLa Encuesta Global se enmarca dentro del Decenio Internacional de las Ciencias para el Desarrollo Sostenible\, con el objetivo de recopilar información clave de científicos\, investigadores\, innovadores\, educadores\, líderes de la industria y responsables políticos que trabajan en áreas relacionadas con la ciencia y la tecnología cuánticas. A través de esta iniciativa\, se busca comprender mejor el panorama actual del sector\, identificar desafíos y oportunidades\, analizar tendencias emergentes y explorar estrategias para garantizar su contribución a los Objetivos de Desarrollo Sostenible (ODS). \nLos resultados obtenidos permitirán fortalecer la colaboración internacional\, actualizar recomendaciones estratégicas y apoyar iniciativas de desarrollo de capacidades en este campo en constante evolución. La encuesta permanecerá abierta hasta el 30 de abril de 2025 y puede consultarse en el siguiente enlace: https://acortar.link/jxo6Vu. \nDe no tener inconveniente\, se solicita a las y los participantes enviar el comprobante digital a la Conalmex al correo electrónico conalmex@nube.sep.gob.mx\, con objeto de llevar un adecuado seguimiento a este asunto.
URL:https://www.secihti.mx/evento/encuesta-global-sobre-el-estado-de-la-investigacion-y-la-infraestructura-en-ciencia-y-tecnologia-cuanticas/
END:VEVENT
BEGIN:VEVENT
DTSTART;TZID=America/Mexico_City:20250423T193000
DTEND;TZID=America/Mexico_City:20250501T235900
DTSTAMP:20260424T070721
CREATED:20250424T072251Z
LAST-MODIFIED:20251028T232947Z
UID:2546-1745436600-1746143940@www.secihti.mx
SUMMARY:Presentación de publicaciones para el Tercer Foro Mundial sobre la Ética de la Inteligencia Artificial
DESCRIPTION:Información y registro:\nhttps://ircai.org/global-forum-on-the-ethics-of-ai-2025/ \nSíntesis: \nLa Organización de las Naciones Unidas para la Educación\, la Ciencia y la Cultura (UNESCO) invita a expertas y expertos relacionados con la ética\, las políticas\, las ciencias sociales\, la informática y la ciencia de datos de la Inteligencia Artificial (IA)\, a participar en la  presentación de  publicaciones o resúmenes (de 500  a 1000 palabras) que hayan elaborado sobre este tema\, con el objetivo de que los trabajos que sean seleccionados sean presentados en el Tercer Foro Mundial sobre la Ética de la Inteligencia Artificial (GFEAI)\, a celebrarse del 24 al 27 de junio de 2025\, en la ciudad de Bangkok\, Tailandia. \nLas personas autoras seleccionados se les invitará a presentar su investigación en dicho Foro\, con gastos de viaje y participación subvencionados; cualquier gasto adicional\, correrá a cargo de la persona interesada en participar. Asimismo\, su trabajo se publicará en las actas del Foro y en números especiales de la Revista de Inteligencia Artificial para el Desarrollo Sostenible (JAISD). \nLos requisitos a esta convocatoria para participar se encuentran en el archivo anexo al presente\, y la recepción de las propuestas se tienen que enviar a más tardar el 1° de mayo de 2025\, a través de este enlace: https://ircai.org/global-forum-on-the-ethics-of-ai-2025/. \nCabe destacar que\, el Foro servirá como plataforma global para el diálogo\, la colaboración y la innovación política sobre las dimensiones éticas de la IA desde la adopción de la Recomendación de la UNESCO sobre la Ética de la Inteligencia Artificial por 194 países de la Organización. \nPara más información o materiales adicionales\, las personas interesadas pueden solicitarla a la cuenta de correo electrónico ai-ethics@unesco.org. \nDe acuerdo con lo anterior\, atentamente se solicita remitir a la Comisión Mexicana de Cooperación con la UNESCO (Conalmex)\, a la cuenta de correo electrónico conalmex@nube.sep.gob.mx\, las postulaciones para su inscripción.
URL:https://www.secihti.mx/evento/presentacion-de-publicaciones-para-el-tercer-foro-mundial-sobre-la-etica-de-la-inteligencia-artificial/
END:VEVENT
BEGIN:VEVENT
DTSTART;TZID=America/Mexico_City:20250429T090000
DTEND;TZID=America/Mexico_City:20250429T090000
DTSTAMP:20260424T070721
CREATED:20250422T084432Z
LAST-MODIFIED:20251028T232942Z
UID:2545-1745917200-1745917200@www.secihti.mx
SUMMARY:XXV Aniversario del Laboratorio de Espectrofotometría y Colorimetría y Jornada de la Unidad de Metrología del INAOE
DESCRIPTION:Registro:\nhttps://www-optica.inaoep.mx/~labecursos/register.php \nSíntesis del evento: \nPara celebrar el 25 aniversario del Laboratorio de Espectrofotometría y Colorimetría que hoy lleva el nombre del Dr. Luis Raúl Berriel Valdos del Instituto Nacional de Astrofísica\, Óptica y Electrónica (INAOE)\, la Unidad de Metrología invita a las y los profesionales de los sectores industriales en los que se requieren servicios metrológicos como medición\, calibración y ensayos a una jornada dedicada al tema del “buen medir”. \nEl evento no tiene costo y se pueden registrar en el siguiente enlace: https://www-optica.inaoep.mx/~labecursos/register.php. Se emite constancia de participación (previo registro). \nContacto: \nJazmín Carraza (labe@inaoep.mx)
URL:https://www.secihti.mx/evento/xxv-aniversario-del-laboratorio-de-espectrofotometria-y-colorimetria-y-jornada-de-la-unidad-de-metrologia-del-inaoe/
END:VEVENT
END:VCALENDAR