BEGIN:VCALENDAR
VERSION:2.0
PRODID:-//SECIHTI - ECPv6.15.16//NONSGML v1.0//EN
CALSCALE:GREGORIAN
METHOD:PUBLISH
X-WR-CALNAME:SECIHTI
X-ORIGINAL-URL:https://www.secihti.mx
X-WR-CALDESC:Eventos para SECIHTI
REFRESH-INTERVAL;VALUE=DURATION:PT1H
X-Robots-Tag:noindex
X-PUBLISHED-TTL:PT1H
BEGIN:VTIMEZONE
TZID:America/Mexico_City
BEGIN:STANDARD
TZOFFSETFROM:-0600
TZOFFSETTO:-0600
TZNAME:CST
DTSTART:20240101T000000
END:STANDARD
END:VTIMEZONE
BEGIN:VEVENT
DTSTART;VALUE=DATE:20250305
DTEND;VALUE=DATE:20250620
DTSTAMP:20260423T171414
CREATED:20250220T072208Z
LAST-MODIFIED:20251028T232412Z
UID:2518-1741150800-1750309199@www.secihti.mx
SUMMARY:Curso “Innovación y Emprendimiento en Salud 2025”
DESCRIPTION:Información y registro:\nitesalud.com \nConvocatoria: \nLa Secretaría de Salud del Gobierno de México\, en concurrencia con otras instituciones de salud e instituciones de educación superior (IES) extienden una invitación a participar en el Curso “Innovación y Emprendimiento en Salud 2025”\, que se realizará del 5 de marzo al 18 de junio de 2025 en modalidad híbrida; presencial en el Centro de Ciencias de la Complejidad de la Universidad Nacional Autónoma de México (UNAM) y virtual a través de Zoom. \nEl programa está diseñado para personas investigadoras\, académicas\, profesionales y estudiantes del área de salud\, con el objetivo de desarrollar el máximo potencial de investigaciones originales en ciencias de la salud para impulsar la creación de empresas innovadoras con responsabilidad social. Entre los temas clave se encuentran: \n\nIntroducción a la innovación y el emprendimiento en salud.\nIngeniería y biotecnología aplicadas a la salud.\nTendencias y oportunidades en el sector salud.\nAspectos regulatorios para investigación en salud.\nTecnologías disruptivas en salud.\n\nLas personas interesadas\, deberán registrarse en el siguiente enlace: itesalud.com. Para conocer más\, se invita a revisar la nota informativa.
URL:https://www.secihti.mx/evento/curso-innovacion-y-emprendimiento-en-salud-2025/
ATTACH;FMTTYPE=image/png:https://www.secihti.mx/wp-content/uploads/2025/10/SALUD.png
END:VEVENT
BEGIN:VEVENT
DTSTART;TZID=America/Mexico_City:20250324T090000
DTEND;TZID=America/Mexico_City:20250504T090000
DTSTAMP:20260423T171414
CREATED:20250325T030311Z
LAST-MODIFIED:20251028T232602Z
UID:2533-1742806800-1746349200@www.secihti.mx
SUMMARY:Taller virtual para promover el rol de las mujeres en la adaptación y mitigación del cambio climático mediante el abordaje de la NDC de México
DESCRIPTION:Registro: \nhttps://acortar.link/WPXRJp \nSíntesis:\nBritish Council\, en asociación con la Universidad de Birmingham y el Tecnológico de Monterrey invitan investigadoras e investigadores con sede en México y Reino Unido a participar y explorar los desafíos relacionados con la igualdad de género y la resiliencia climática\, particularmente a través de soluciones acreditadas como innovadoras. \nEl taller\, organizado en cinco sesiones\, tiene el objetivo de fomentar la colaboración entre investigadores jóvenes de ambos países\, reconociendo el valor de las perspectivas diversas para abordar los desafíos que se presentan en la actualidad ante un panorama mundial. De igual manera\, trata de ofrecer a los equipos de investigación la oportunidad de competir por la financiación inicial para materializar sus ideas innovadoras. \nLas sesiones tendrán lugar los días 13\, 14\, 15 y 22 de mayo\, y el 5 de junio\, con inicio de actividades a partir de las 9:00 h (zona centro de México). Las personas interesadas en participar\, deberán llenar su registro adecuadamente antes del 4 de mayo de 2025. \nPara más información sobre los criterios de elegibilidad\, mecanismo de aplicación\, consulta de premios y demás datos relevantes\, se invita a ingresar a los códigos QR que se muestra en el gráfico o en el siguiente enlace: https://acortar.link/dRUltd. \nSesiones en línea: \n13 de mayo de 2025 \n14 de mayo de 2025 \n15 de mayo de 2025 \n22 de mayo de 2025 \n5 de junio de 2025
URL:https://www.secihti.mx/evento/taller-virtual-para-promover-el-rol-de-las-mujeres-en-la-adaptacion-y-mitigacion-del-cambio-climatico-mediante-el-abordaje-de-la-ndc-de-mexico/
ATTACH;FMTTYPE=image/jpeg:https://www.secihti.mx/wp-content/uploads/2025/10/event.jpg
END:VEVENT
BEGIN:VEVENT
DTSTART;TZID=America/Mexico_City:20250415T133000
DTEND;TZID=America/Mexico_City:20250505T200000
DTSTAMP:20260423T171414
CREATED:20250416T012936Z
LAST-MODIFIED:20251028T232941Z
UID:2542-1744723800-1746475200@www.secihti.mx
SUMMARY:Convocatoria "Reconocimientos Nacionales a la Calidad en Salud 2025" de la Secretaría de Salud
DESCRIPTION:Información:\nhttps://acortar.link/omAPjt \nSíntesis: \nLa Secretaría de Salud del Gobierno de México\, invita a participar en la convocatoria “Reconocimientos Nacionales a la Calidad en Salud 2025”. Esta convocatoria\, exhorta a postular\, ante el Jurado Calificador\, a personas destacadas en los siguientes campos: \n– Trabajo Social: Para recibir el “Reconocimiento Nacional de Trabajo Social en el Sistema Nacional de Salud 2025”. \n– Calidad de la Atención y Seguridad del Paciente: Para recibir el “Reconocimiento Nacional a la Gestión de la Calidad y Seguridad en la Atención de la Salud 2025”. \nAsimismo\, se invita a los establecimientos públicos de atención médica integrantes del SNS que cuenten con Clave Única de Establecimientos de Salud (CLUES) a presentar proyectos de investigación en calidad y seguridad en la atención de la salud. Estos proyectos deben estar alineados con los temas prioritarios de salud pública del país y podrán ser considerados para el “Reconocimiento Nacional a Proyectos de Investigación en Calidad y Seguridad de la Atención en Salud 2025”. \nPara más datos\, se invita a revisar la Convocatoria\, así como el tríptico informativo. La convocatoria estará abierta hasta las 20:00 horas del día 5 de mayo 2025.
URL:https://www.secihti.mx/evento/convocatoria-reconocimientos-nacionales-a-la-calidad-en-salud-2025-de-la-secretaria-de-salud/
END:VEVENT
BEGIN:VEVENT
DTSTART;TZID=America/Mexico_City:20250423T193000
DTEND;TZID=America/Mexico_City:20250501T235900
DTSTAMP:20260423T171414
CREATED:20250424T072251Z
LAST-MODIFIED:20251028T232947Z
UID:2546-1745436600-1746143940@www.secihti.mx
SUMMARY:Presentación de publicaciones para el Tercer Foro Mundial sobre la Ética de la Inteligencia Artificial
DESCRIPTION:Información y registro:\nhttps://ircai.org/global-forum-on-the-ethics-of-ai-2025/ \nSíntesis: \nLa Organización de las Naciones Unidas para la Educación\, la Ciencia y la Cultura (UNESCO) invita a expertas y expertos relacionados con la ética\, las políticas\, las ciencias sociales\, la informática y la ciencia de datos de la Inteligencia Artificial (IA)\, a participar en la  presentación de  publicaciones o resúmenes (de 500  a 1000 palabras) que hayan elaborado sobre este tema\, con el objetivo de que los trabajos que sean seleccionados sean presentados en el Tercer Foro Mundial sobre la Ética de la Inteligencia Artificial (GFEAI)\, a celebrarse del 24 al 27 de junio de 2025\, en la ciudad de Bangkok\, Tailandia. \nLas personas autoras seleccionados se les invitará a presentar su investigación en dicho Foro\, con gastos de viaje y participación subvencionados; cualquier gasto adicional\, correrá a cargo de la persona interesada en participar. Asimismo\, su trabajo se publicará en las actas del Foro y en números especiales de la Revista de Inteligencia Artificial para el Desarrollo Sostenible (JAISD). \nLos requisitos a esta convocatoria para participar se encuentran en el archivo anexo al presente\, y la recepción de las propuestas se tienen que enviar a más tardar el 1° de mayo de 2025\, a través de este enlace: https://ircai.org/global-forum-on-the-ethics-of-ai-2025/. \nCabe destacar que\, el Foro servirá como plataforma global para el diálogo\, la colaboración y la innovación política sobre las dimensiones éticas de la IA desde la adopción de la Recomendación de la UNESCO sobre la Ética de la Inteligencia Artificial por 194 países de la Organización. \nPara más información o materiales adicionales\, las personas interesadas pueden solicitarla a la cuenta de correo electrónico ai-ethics@unesco.org. \nDe acuerdo con lo anterior\, atentamente se solicita remitir a la Comisión Mexicana de Cooperación con la UNESCO (Conalmex)\, a la cuenta de correo electrónico conalmex@nube.sep.gob.mx\, las postulaciones para su inscripción.
URL:https://www.secihti.mx/evento/presentacion-de-publicaciones-para-el-tercer-foro-mundial-sobre-la-etica-de-la-inteligencia-artificial/
END:VEVENT
BEGIN:VEVENT
DTSTART;VALUE=DATE:20250505
DTEND;VALUE=DATE:20250508
DTSTAMP:20260423T171414
CREATED:20241128T030716Z
LAST-MODIFIED:20250628T001633Z
UID:2501-1746421200-1746593999@www.secihti.mx
SUMMARY:Swiss Biotech Global Village
DESCRIPTION:Síntesis: \n\n\n\n\nLa Agencia de Innovación Suiza extiende la invitación a participar en el evento “Swiss Biotech Global Village”\, que tendrá lugar el 5 y 6 de mayo de 2025 en el Centro de Convenciones de Basel\, en la ciudad de Basilea\, Suiza. \n\n\n\nEl objetivo de este encuentro es propiciar una plataforma internacional en materia de biotecnología y ciencias de la vida; incentivar el intercambio con organizaciones suizas y líderes internacionales en la materia; e impulsar a largo plazo la colaboración internacional en materia de biotecnología. Reunirá a más de 2 500 especialistas del sector\, incluyendo incubadoras\, universidades\, centros de investigación\, empresas\, entre otros. \n\n\n\nLas personas interesadas en participar\, podrán revisar términos y más especificaciones en el boletín informativo. \n\n\n\n\n\nContacto: \n\n\n\nTiziana Rosa (rosa@swissbiotech.org)
URL:https://www.secihti.mx/evento/swiss-biotech-global-village/
CATEGORIES:Convocatorias,Otros Organizadores
ORGANIZER;CN="Agencia de Innovaci%C3%B3n Suiza":MAILTO:example@example.com
END:VEVENT
BEGIN:VEVENT
DTSTART;VALUE=DATE:20250508
DTEND;VALUE=DATE:20250529
DTSTAMP:20260423T171414
CREATED:20250311T073922Z
LAST-MODIFIED:20251028T232419Z
UID:2521-1746680400-1748408399@www.secihti.mx
SUMMARY:Convocatoria “Nasser Fellowship for International Leadership”
DESCRIPTION:Información:\nhttps://www.nasseryouthmovement.net/ \nConvocatoria: \nEl Ministerio de Juventud y Deportes de Egipto invita a participar en la convocatoria para que nacionales mexicanos participen en el programa Nasser Fellowship for International Leadership\, que se desarrollará en El Cairo del 8 al 27 de mayo del presente año. El tema de este año es “Egipto y las Naciones Unidas: 80 años representando al Sur Global”\, con el objetivo de empoderar a jóvenes líderes\, fomentar la cooperación Sur-Sur y proporcionar una plataforma para el diálogo Sur-Norte centrado en temas de desarrollo global\, paz y cooperación multilateral. Es de destacar que esta iniciativa cuenta con los auspicios del Presidente de Egipto\, Abdel Fattah El-Sisi y del Ministerio de Relaciones Exteriores de aquel país \nLa referida convocatoria está dirigida a jóvenes de entre 18 y 40 años de nacionalidad mexicana que no residan en Egipto y que estén involucrados en temas de liderazgo\, formulación de políticas públicas\, sociedad civil\, emprendedores y desarrollo internacional. \nDe acuerdo con la convocatoria\, el programa cubrirá alojamiento\, alimentación\, transporte nacional y visitas turísticas de las y los participantes. Cualquier otro gasto no contemplado en la presente convocatoria\, como pasajes aéreos internacionales de ida y vuelta\, el costo de la visa correspondiente y otros de interés\, deberá ser cubierto por las personas solicitantes. \nPara más información\, se invita a consultar la siguiente nota y enlace.
URL:https://www.secihti.mx/evento/convocatoria-nasser-fellowship-for-international-leadership/
END:VEVENT
BEGIN:VEVENT
DTSTART;TZID=America/Mexico_City:20250514T090000
DTEND;TZID=America/Mexico_City:20250516T235900
DTSTAMP:20260423T171414
CREATED:20250426T010651Z
LAST-MODIFIED:20251028T232947Z
UID:2547-1747213200-1747439940@www.secihti.mx
SUMMARY:Taller de Tecnologías de Semiconductores
DESCRIPTION:Información del evento:\nwww-elec.inaoep.mx/~taller_semiconductores/ \nRegistro:\nwww-elec.inaoep.mx/~taller_semiconductores/registro.php \nSíntesis del evento: \nEl Instituto Nacional de Astrofísica\, Óptica y Electrónica (INAOE) y la Asociación MOS-AK invitan al taller de Tecnologías de Semiconductores\, a realizarse del 14 al 16 de mayo\, en el Auditorio del Centro de Información del INAOE. \nEl objetivo de este taller es dar a conocer las herramientas de acceso libre disponibles para cada paso en el diseño\, simulación y fabricación de circuitos integrados\, así como las oportunidades para fabricarlos. Es importante formar talento humano con los conocimientos fundamentales para poder impulsar el desarrollo de esta industria en México. La descripción de las herramientas\, las formas de uso\, los requisitos y prestaciones se darán a conocer por medio de pláticas y cursos por expertos\, contando con la colaboración de investigadores internos y externos al INAOE. \nLas personas interesadas\, deberán registrarse en el siguiente enlace: www-elec.inaoep.mx/~taller_semiconductores/registro.php. El taller es gratuito\, cupo limitado. \nContacto: \nDr. Roberto Murphy Arteaga (rmurphy@inaoep.mx)
URL:https://www.secihti.mx/evento/taller-de-tecnologias-de-semiconductores/
ATTACH;FMTTYPE=image/jpeg:https://www.secihti.mx/wp-content/uploads/2025/10/grafico1.jpeg
END:VEVENT
BEGIN:VEVENT
DTSTART;TZID=America/Mexico_City:20250520T050000
DTEND;TZID=America/Mexico_City:20250520T235900
DTSTAMP:20260423T171414
CREATED:20250416T223854Z
LAST-MODIFIED:20251028T232941Z
UID:2544-1747717200-1747785540@www.secihti.mx
SUMMARY:Convocatoria “Programa de Becas UNESCO/Polonia en materia de Ingeniería 2025”
DESCRIPTION:Fecha límite de registro:\n20 de mayo de 2025 \nSíntesis: \nLa Organización de las Naciones Unidas para la Educación\, la Ciencia y la Cultura (UNESCO) invita a participar en la Convocatoria del Programa de Becas UNESCO/Polonia en materia de ingeniería 2025\, cofinanciada por la UNESCO\, la Comisión Nacional de Polonia y la Cátedra UNESCO de Ciencia\, Tecnología y Educación en Ingeniería de la AGH Universidad de Ciencia y Tecnología de Cracovia. \nEste programa ofrece hasta 28 becas de seis meses de duración cada una en Polonia\, iniciando el 1º de octubre de 2025 al 31 de marzo de 2026. El objetivo es el de promover en los países en desarrollo y mejorar las relaciones de entendimiento y amistad internacional\, por lo que\, las y los postulantes que resulten beneficiados tendrán la oportunidad de emprender un programa individual de investigación en el marco de la ciencia\, la tecnología y la ingeniería. \nEn los archivos anexos\, las personas interesadas en participar encontrarán información relativa a los requisitos requeridos\, así como los formularios para presentar las candidaturas a la mencionada Beca\, mismas que tendrán que remitir los postulantes a más tardar el 20 de mayo de 2025 a a la Comisión Nacional Mexicana de Cooperación con la UNESCO (Conalmex)\, ya sea al correo electrónico conalmex@nube.sep.gob.mx o entregándola físicamente en las oficinas de dicha Comisión. Cabe señalar que no se recibirán candidaturas enviadas de manera personal directamente a los organizadores. \nAnexos:\nAnnex I – Terms and Conditions 2025\nAnnex II – List of invited Member States 2025-26\nAnnex III – List of proposed projects ed 2025A\nAnnex IV – List of projects and list of research fields 2025A\nAnnex V – UNESCO Fellowship Application form and the Certificate of Language
URL:https://www.secihti.mx/evento/convocatoria-programa-de-becas-unesco-polonia-en-materia-de-ingenieria-2025/
END:VEVENT
BEGIN:VEVENT
DTSTART;TZID=America/Mexico_City:20250521T203000
DTEND;TZID=America/Mexico_City:20250716T235900
DTSTAMP:20260423T171414
CREATED:20250522T081033Z
LAST-MODIFIED:20251028T232954Z
UID:2550-1747859400-1752710340@www.secihti.mx
SUMMARY:Convocatoria visual internacional “Luz Cuántica: una Odisea Visual”
DESCRIPTION:Información y registro:\nhttps://acortar.link/NN44DQ \nSíntesis: \nLa Organización de las Naciones Unidas para la Educación\, la Ciencia y la Cultura (UNESCO)\, exhorta a participantes de todo el mundo a presentar obras visuales creativas\, como fotografías\, ilustraciones\, collages o piezas artesanales\, que exploren los profundos vínculos entre la luz y la ciencia cuántica. \nLas obras seleccionadas se exhibirán en una exposición virtual curada que se inaugurará en octubre de 2025 en la plataforma del Año Internacional de la Ciencia y la Tecnología Cuánticas (AIQ) de la UNESCO\, y se otorgarán premios en cuatro categorías: Más Popular\, Mejor Creatividad Científica\, Mejor Comunicación Científica y Mejor Expresión Artística. \nLas personas interesadas en participar deberán enviar sus obras o trabajos a más tardar el 16 de julio de 2025\, en el siguiente enlace: https://acortar.link/NN44DQ
URL:https://www.secihti.mx/evento/convocatoria-visual-internacional-luz-cuantica-una-odisea-visual/
END:VEVENT
BEGIN:VEVENT
DTSTART;TZID=America/Mexico_City:20250522T080000
DTEND;TZID=America/Mexico_City:20250730T233000
DTSTAMP:20260423T171414
CREATED:20250522T233245Z
LAST-MODIFIED:20251028T232954Z
UID:2551-1747900800-1753918200@www.secihti.mx
SUMMARY:Premio IMPI a la Innovación Mexicana 2025
DESCRIPTION:Información y registro:\nhttps://premioinnovacionmexicana.impi.gob.mx/ \nConvocatoria:\nConvocatoria Premio IMPI 2025 \nSíntesis: \nLa Secretaría de Economía del Gobierno de México\, mediante el Instituto Mexicano de la Propiedad Industrial (IMPI) invitan a participar en el Premio IMPI a la Innovación Mexicana\, en su edición 2025. \nEsta convocatoria tiene como objetivo contribuir a impulsar el potencial innovador del país\, reconociendo y premiando la capacidad inventiva y la creatividad de las personas mexicanas\, brindando estímulos para impulsar la innovación y el desarrollo en México. \nEn esta quinta edición del premio\, el IMPI reconocerá al primer lugar de cada una de las siguientes 11 categorías\, con un monto de $250\,000.00 (DOSCIENTOS CINCUENTA MIL PESOS 00/100 M.N). \nLas categorías por premiar son: \n\nPatente\nRegistro de modelo de utilidad.\nRegistro de diseño industrial.\nInvenciones asociadas a la música.\nInvenciones en materia de agua y sostenibilidad hídrica.\nInvenciones en materia ambiental (tecnología climática / energías limpias: eólicas\, solares\, geotérmicas u otras / sostenibilidad agrícola).\nInvenciones en materia aeroespacial y electromovilidad (trasporte de propulsión eléctrica/fabricación / instalación de carga).\nInvenciones en materia de semiconductores.\nInvenciones dirigidas a la salud (fármacos / biofármacos / dispositivos y tecnología médica).\nJóvenes innovadores (inventores o inventoras de menos de 30 años).\nMujeres inventoras.\n\nDatos de contacto: \nMtra. Mirta Monteagudo Vilchis\, directora general Adjunta de Propiedad Industrial  mirta.monteagudo@impi.gob.mx
URL:https://www.secihti.mx/evento/premio-impi-a-la-innovacion-mexicana-2025/
END:VEVENT
BEGIN:VEVENT
DTSTART;VALUE=DATE:20250527
DTEND;VALUE=DATE:20250529
DTSTAMP:20260423T171414
CREATED:20250522T080532Z
LAST-MODIFIED:20251028T232954Z
UID:2549-1748322000-1748408399@www.secihti.mx
SUMMARY:Seminario UNESCO/IUPAP: Iluminando la Innovación: Ciencia de Sincrotrón\, Fronteras Cuánticas y el Futuro Científico de África
DESCRIPTION:Hora de inicio:\n5:00 h (zona centro de México) \nInformación y registro:\nhttps://acortar.link/UHX5bi \nSíntesis: \nLa Organización de las Naciones Unidas para la Educación\, la Ciencia y la Cultura (UNESCO)\, invita a inscribirse al segundo seminario web de la serie de coloquios UNESCO/IUPAP Física para la Sociedad\, titulado “Iluminando la Innovación: Ciencia de Sincrotrón\, Fronteras Cuánticas y el Futuro Científico de África”. \nCabe destacar que\, esta sesión especial se organiza en el contexto del Decenio Internacional de las Ciencias para el Desarrollo Sostenible (IDSSD) y el Año Internacional de la Ciencia y la Tecnología Cuánticas (AIQ). Explorará el papel transformador de las fuentes de luz de sincrotrón en el avance de la investigación cuántica\, impulsando la innovación en campos como las energías limpias y la imagenología biomédica\, y fomentando la colaboración científica internacional inclusiva. \nLas personas interesadas en participar\, deberán hacer su inscripción en el siguiente enlace electrónico: https://acortar.link/UHX5bi
URL:https://www.secihti.mx/evento/seminario-unesco-iupap-iluminando-la-innovacion-ciencia-de-sincrotron-fronteras-cuanticas-y-el-futuro-cientifico-de-africa/
END:VEVENT
END:VCALENDAR